BEGIN:VCALENDAR
PRODID:NingEventWidget-v1
VERSION:2.0
METHOD:PUBLISH
BEGIN:VEVENT
UID:3186561:Event:55090
DTSTAMP:20210313T180852Z
SUMMARY:September 8, 2015 Meeting: Arapahoe Tea Party [program to be a
 nnounced]
DESCRIPTION:For news of this event, listen to KLZ 560 radio.\n\nJoin t
 he Arapahoe Tea Party and the Colorado Tea Party Patriots for our Sept
 ember 8, 2015, meeting.  [Note that the program remains to be announc
 ed.]  Meeting topics are always informative--at times lively. \n\nAl
 ways so much to talk about, so come for information.\n\n\n***********\
 n\n\n\n*************\n\nAs with all of the meetings, come early for a 
 good seat.  There may be additions to the program.\n\nOur meetings ha
 ve been standing room only, so come early!\n \nTuesday, September 8, 
 2015 6:30-8:30 pm South Metro Fire Rescue 9195 E. Mineral Ave. Centenn
 ial, CO 80112\n \nEvent announcement on Facebook:\n\n \n \nIf you w
 ould be interested in helping with a committee or two that might help 
 make meetings and events run smoother, would you please post a brief c
 omment with this announcement.\n \nIf you are not connected via Faceb
 ook, please find the group \"Arapahoe Tea Party\" for news items and 
 events:\nhttps://www.facebook.com/groups/arapahoeteaparty\n \n*******
 ******************\n\nNOTE:  Please do not contact the building manag
 ement for information about this event.  The group sponsoring the eve
 nt has contact information at the link provided above.\n\n************
 ************\n\nReminder from April 2015 meeting of Darryl Glenn, cand
 idate for U.S Senator, currently El Paso County Commissioner\n\nhttp:/
 /www.electdarrylglenn.com/\n\nhttp://www.csindy.com/IndyBlog/archives/
 2015/01/15/darryl-glenn-will-run-against-sen-bennet\n\nhttp://gazette.
 com/glenn-early-announcement-for-u.s.-senate-run-shows-he-is-very-seri
 ous/article/1544655\n\n\n\nFor more information visit http://arapahoet
 eaparty.ning.com/events/september-8-2015-meeting-arapahoe-tea-party-pr
 ogram-to-be-announc
DTSTART:20150909T003000Z
DTEND:20150909T023000Z
CATEGORIES:"monthly meeting"
LOCATION:South Metro Fire Rescue Authority; Mineral Headquarters, Boar
 d Room
WEBSITE:https://maps.google.com/maps?oe=utf-8&client=firefox-a&ie=UTF-
 8&q=south+metro+fire+rescue+authority+mineral+headquarters&fb=1&gl=us&
 hq=south+metro+fire+rescue+authority+mineral+headquarters&cid=0,0,9189
 900575761474566&ei=wsvZUfvrHoWQyQHR5oGQCg&ved=0CIcBEPwSMAA
URL:https://maps.google.com/maps?oe=utf-8&client=firefox-a&ie=UTF-8&q=
 south+metro+fire+rescue+authority+mineral+headquarters&fb=1&gl=us&hq=s
 outh+metro+fire+rescue+authority+mineral+headquarters&cid=0,0,91899005
 75761474566&ei=wsvZUfvrHoWQyQHR5oGQCg&ved=0CIcBEPwSMAA
CONTACT:303-885-2550
ORGANIZER:Regina Thomson and Randy Corporon [posted by W. Branstetter]
ATTACH;FMTTYPE="image/jpeg":
ATTENDEE;ROLE=REQ-PARTICIPANT;PARTSTAT=ACCEPTED;RSVP=TRUE;CN="W. Brans
 tetter":http://arapahoeteaparty.ning.com/profile/WBranstetter
END:VEVENT
END:VCALENDAR
