BEGIN:VCALENDAR
PRODID:NingEventWidget-v1
VERSION:2.0
METHOD:PUBLISH
BEGIN:VEVENT
UID:3186561:Event:39421
DTSTAMP:20210313T173439Z
SUMMARY:Securing Our American Dream Rally
DESCRIPTION:Put this date and event on your calendar and plan on turni
 ng out.  The young patriots and dreamers (college age or later) are o
 rganizing for a rally on the west steps of the capitol building.  Fin
 d out what they have to say and support them in the efforts for this r
 ally and its goals.\n \nJimmy Sengenberger writes:\n \nMARK YOUR CAL
 ENDARS FOR THE SECURING OUR AMERICAN DREAM RALLY ON SATURDAY, OCTOBER 
 20!\n \n---------------------\n \nIn 2008, Barack Obama swept the na
 tion with fervent passion for two words: \"hope\" and \"change.\"  Th
 ese two words, more than anything else, inspired millions of American 
 youth to get active and involved in his campaign, prompting many in th
 e mainstream media to dub us \"Generation O.\" ... \n \nNow, for the
  first time in at least a century, the future of the American Dream is
  now in real question and in serious doubt.\n \nMillions of younger A
 mericans - the next generation of national leadership - are finally st
 arting to wake up to this stark reality: Barack Obama has failed to li
 ve up to his promises, and he must be replaced with a new president!\n
  \nOn Saturday, October 20, join an unprecedented group of concerned,
  young speakers (ages 15-25) who have bucked the conventional wisdom, 
 turned toward the future, and determined that we must chart a new cour
 se in order to secure the American Dream!\n \nThe Securing Our Americ
 an Dream Rally will take place from 2 to 4 p.m. on the West Steps of t
 he Colorado State Capitol on Saturday, October 20 - just days after ba
 llots drop.  Don't miss this exciting and inspiring event!\n \nMore 
 details on speakers and other special aspects are on the way, so mark 
 your calendars now!\n \nQuestions and media inquiries can be directed
  to Jimmy Sengenberger, chief organizer, by FB message or email at Jim
 my@SengCenter.com.\n \n(Please note that the time is likely to change
  to 1-3 p.m. INSTEAD of 2-4 p.m.  Notification will be made on this e
 arly next week.)\n \nhttps://www.facebook.com/events/459042960785124/
 permalink/460226837333403/\n \nWatch for information on speakers.\n 
 \n*****************\n \nNote:  I keep hearing comments that people h
 ave asked where are the rallies and tea party groups.  It has been a 
 while and most of us have been busy with our projects.  There is this
  rally and one the previous week that it would be helpful if everyone 
 possible turned out for before the ballots start.\n \n \n\n\nFor mor
 e information visit http://arapahoeteaparty.ning.com/events/securing-o
 ur-american-dream-rally
DTSTART:20121020T193000Z
DTEND:20121020T213000Z
CATEGORIES:rally
LOCATION:West Steps of the Capitol Building, Denver, CO
WEBSITE:
URL:
CONTACT:
ORGANIZER:Jimmy Sengenberger [posted by W. Branstetter]
ATTACH;FMTTYPE="image/jpeg":
ATTENDEE;ROLE=REQ-PARTICIPANT;PARTSTAT=ACCEPTED;RSVP=TRUE;CN="Jimmy Se
 ngenberger":http://arapahoeteaparty.ning.com/profile/JimmySengenberger
ATTENDEE;ROLE=REQ-PARTICIPANT;PARTSTAT=ACCEPTED;RSVP=TRUE;CN="W. Brans
 tetter":http://arapahoeteaparty.ning.com/profile/WBranstetter
ATTENDEE;ROLE=REQ-PARTICIPANT;PARTSTAT=ACCEPTED;RSVP=TRUE;CN="Randy B 
 Corporon":http://arapahoeteaparty.ning.com/profile/RandyBCorporon
END:VEVENT
END:VCALENDAR
