BEGIN:VCALENDAR
PRODID:NingEventWidget-v1
VERSION:2.0
METHOD:PUBLISH
BEGIN:VEVENT
UID:3186561:Event:46881
DTSTAMP:20210313T175215Z
SUMMARY:Rocky Mountain Black Conservatives meeting
DESCRIPTION:Casper Stockham is the group's leader and the Rocky Mounta
 in Black Conservatives meets the third Saturday each month in Denver a
 t:\nIndependence Institute\n(downstairs classroom)\n727 East 16th Aven
 ue\nDenver, Colorado\n \nSaturday, July 20, 2013\nnoon to 2:00 p.m.\n
  \nThe Denver Chapter is a branch of the group Derrick Wilburn starte
 d in 2010 in his backyard in Colorado Springs.  The \"tea party\" mon
 iker is not a handle that works well and the regional identifier \"Roc
 ky Mountain\" may be a limitation.  You may find information about th
 e group at the following web site:\n \nhttp://blackandconservative.co
 m/\n \n***************\n\nIt looks like Andy and Cori Peth plan to be
  at this meeting so maybe Andy will be talking to the group.  Check o
 ut the web site \"The Party of Choice\" at:\n \nhttp://www.thepartyof
 choice.com/events.html\nhttp://www.thepartyofchoice.com/index.html\n 
 \n\n***************\n \nPlease note that the downstairs classroom is 
 accessed via stairs only.\n \n **********************\n\nIf you had 
 a chance to attend the July meeting of the Arapahoe Tea Party you may 
 have had a chance to meet some of the people with either the Denver or
  Colorado Springs chapters of the RMBC.\n \n \n \n\n\nFor more info
 rmation visit http://arapahoeteaparty.ning.com/events/rocky-mountain-b
 lack-conservatives-meeting
DTSTART:20130720T060000Z
DTEND:20130720T200000Z
CATEGORIES:meeting
LOCATION:Independence Institute
WEBSITE:http://blackandconservative.com/
URL:http://blackandconservative.com/
CONTACT:
ORGANIZER:posted by W. Branstetter
ATTACH;FMTTYPE="image/jpeg":
ATTENDEE;ROLE=REQ-PARTICIPANT;PARTSTAT=TENTATIVE;RSVP=TRUE;CN="W. Bran
 stetter":http://arapahoeteaparty.ning.com/profile/WBranstetter
END:VEVENT
END:VCALENDAR
