BEGIN:VCALENDAR
PRODID:NingEventWidget-v1
VERSION:2.0
METHOD:PUBLISH
BEGIN:VEVENT
UID:3186561:Event:34062
DTSTAMP:20210313T175719Z
SUMMARY:RMBTP Rally - Martin Luther King Day Parade
DESCRIPTION:In support of the Rocky Mountain Black Tea Party, we have 
 been invited to meet up with this group on Monday, Jan. 16, 2012.  Th
 ey hope to help raise awareness that MLK himself WAS a conservative an
 d to attract more like-minded blacks to the conservative cause.  Our 
 support can be shown by meeting up tomorrow and walk with them in this
  time-honored parade. \nWe're meeting in the parking lot of the close
 d 7-11 on Colfax and Josephine. Call Leland at 720-256-0887 if you nee
 d more information.  They will have a supply of shirts and buttons a
 vailable if anyone would like to take the bold step of buying and wear
 ing one.  The cost for the shirts which read, \"Black And Conservativ
 e\"  -   Not a Contradiction, is about $15 to $20.  (Depends on th
 e style chosen).\nHope you can make it.  If not, please visit their w
 ebsite:\nwww.RMBTP.org    to learn more about their efforts and wha
 t the Arapahoe Tea Party can do to support them further.\n \n \n\nFo
 r more information visit http://arapahoeteaparty.ning.com/events/rmbtp
 -rally-martin-luther-king-day-parade
DTSTART:20120116T150000Z
DTEND:20120116T173000Z
CATEGORIES:rally
LOCATION:Downtown Denver
WEBSITE:
URL:
CONTACT:720-256-0887
ORGANIZER:Rocky Mountain Black Tea Party
ATTACH;FMTTYPE="image/jpeg":
ATTENDEE;ROLE=REQ-PARTICIPANT;PARTSTAT=ACCEPTED;RSVP=TRUE;CN="Theresa 
 Collins":http://arapahoeteaparty.ning.com/profile/TheresaCollins
END:VEVENT
END:VCALENDAR
