BEGIN:VCALENDAR
PRODID:NingEventWidget-v1
VERSION:2.0
METHOD:PUBLISH
BEGIN:VEVENT
UID:3186561:Event:50367
DTSTAMP:20210313T175831Z
SUMMARY:Revive 1787 Monthly Meeting:  Butterfly Effect
DESCRIPTION:Revive 1787 Monthly Meeting:  Butterfly Effect \nSpeaker
 :  Major General Andrew Cooley\nWhen:  June 12, 2014 -- 6:45 to 8:00
  a.m.\nWhere:  \nCSU Extension Office \nDouglas County Fairgrounds\n
 \n410 Fairgrounds Dr. \nCastle Rock, CO 80104\n\n\nComplimentary (Fre
 e) Breakfast\n\nhttps://www.facebook.com/events/1409394702681295/\n\n\
 n\nFor more information visit http://arapahoeteaparty.ning.com/events/
 revive-1787-monthly-meeting-butterfly-effect
DTSTART:20140612T124500Z
DTEND:20140612T140000Z
CATEGORIES:meeting
LOCATION:CSU Extension Office, Douglas County Fairgrounds
WEBSITE:https://www.facebook.com/events/1409394702681295/
URL:https://www.facebook.com/events/1409394702681295/
CONTACT:
ORGANIZER:posted by W. Branstetter
ATTACH;FMTTYPE="image/jpeg":
END:VEVENT
END:VCALENDAR
