BEGIN:VCALENDAR
PRODID:NingEventWidget-v1
VERSION:2.0
METHOD:PUBLISH
BEGIN:VEVENT
UID:3186561:Event:49903
DTSTAMP:20210313T174327Z
SUMMARY:Revive 1787 Monthly Meeting:  Butterfly Effect speaker Senator
  Ted Harvey
DESCRIPTION:The Revive 1787 Monthly Meeting (early morning) has the fo
 llowing comments for the meeting announcement:\"What Does State Senato
 r Ted Harvey have in common with butterflies? Well the \"Butterfly Eff
 ect\" states that a small motion in one area can cause a great motion 
 or effect in another; scientifically \"sensitive dependence on initial
  conditions\". For example a butterfly can flap its wings in one part 
 of the world and cause a hurricane in another.Senator Harvey, his Chri
 stian faith, and how it had impacted a state.The next Butterfly Effect
 . Thursday May 8th at 6:45am CSU Extension Office Douglas County Fair
 grounds, Castle Rock,CO.\"\n\nhttps://www.facebook.com/events/14474759
 48831570\n\nWhen:  Thursday, May 8, 2014; 6:45-8:00 a.m.\nWhere:  CS
 U Extension Office\nDouglas County Fairgrounds,\n500 Fairgrounds Road\
 nCastle Rock, CO\n\nMap and directions:\nhttp://www.douglas.co.us/even
 tscenter/directions/\n\nThe event was posted on the Facebook page for 
 Arapahoe Tea Party:\n\nhttps://www.facebook.com/groups/arapahoeteapart
 y/\n\n\n\nFor more information visit http://arapahoeteaparty.ning.com/
 events/revive-1787-monthly-meeting-butterfly-effect-speaker-senator-te
 d-
DTSTART:20140508T124500Z
DTEND:20140508T140000Z
CATEGORIES:"monthly meeting"
LOCATION:CSU Extension Office Douglas County Fairgrounds,
WEBSITE:https://www.facebook.com/events/1447475948831570
URL:https://www.facebook.com/events/1447475948831570
CONTACT:
ORGANIZER:[posted by W. Branstetter]
ATTACH;FMTTYPE="image/jpeg":
END:VEVENT
END:VCALENDAR
