BEGIN:VCALENDAR
PRODID:NingEventWidget-v1
VERSION:2.0
METHOD:PUBLISH
BEGIN:VEVENT
UID:3186561:Event:40399
DTSTAMP:20210313T173437Z
SUMMARY:Reminder:  Securing Our American Dream Rally
DESCRIPTION:This is a reminder for the Securing Our American Dream Ral
 ly.Â  The young patriots (college age or later) are organizing for a r
 ally on the west steps of the capitol building.Â  Find out what they h
 ave to say and support them in the efforts for this rally.Â  Best wish
 es for a successful and hopefully good weather.\nÂ \nJimmy Sengenberge
 r writes:\nÂ \nÂ \nIn 2008, Barack Obama swept the nation with fervent
  passion for two words: \"hope\" and \"change.\"Â  These two words, mo
 re than anything else, inspired millions of American youth to get acti
 ve and involved in his campaign, prompting many in the mainstream medi
 a to dub us \"Generation O.\" ...Â \nÂ \nNow, for the first time in at
  least a century, the future of the American Dream is now in real ques
 tion and in serious doubt.\nÂ \nMillions of younger Americans - the ne
 xt generation of national leadership - are finally starting to wake up
  to this stark reality: Barack Obama has failed to live up to his prom
 ises, and he must be replaced with a new president!\nÂ \nOn Saturday, 
 October 20, join an unprecedented group of concerned, young speakers (
 ages 15-25) who have bucked the conventional wisdom, turned toward the
  future, and determined that we must chart a new course in order to se
 cure the American Dream!\nÂ \nThe Securing Our American Dream Rally wi
 ll take place from 2 to 4 p.m. on the West Steps of the Colorado State
  Capitol on Saturday, October 20 - just days after ballots drop.Â  Don
 't miss this exciting and inspiring event!\nÂ \nMore details on speake
 rs and other special aspects are on the way, so mark your calendars no
 w!\nÂ \nQuestions and media inquiries can be directed to Jimmy Sengenb
 erger, chief organizer, by FB message or email at Jimmy@SengCenter.com
 .\nÂ \n(Please note that the time is likely to change to 1-3 p.m. INST
 EAD of 2-4 p.m.Â  Notification will be made on this early next week.)\
 nÂ \nhttps://www.facebook.com/events/459042960785124/permalink/4602268
 37333403/\nÂ \nWatch for information on speakers.\nÂ \n***************
 **\nÂ \nPeople have asked where are the rallies and tea party groups.Â
   Most of us have been busy with our projects.Â Â Since election day i
 s quickly approaching this may be a good way to help the young people 
 with their goals andÂ it would be helpful if everyone possible turned 
 out.\nÂ \nhttp://arapahoeteaparty.ning.com/events/securing-our-america
 n-dream-rally\n\n\nFor more information visit http://arapahoeteaparty.
 ning.com/events/reminder-securing-our-american-dream-rally
DTSTART:20121020T193000Z
DTEND:20121020T213000Z
CATEGORIES:rally
LOCATION:West Steps of the Capitol Building, Denver, CO
WEBSITE:
URL:
CONTACT:
ORGANIZER:Jimmy Sengenberger [posted by W. Branstetter]
ATTACH;FMTTYPE="image/jpeg":
ATTENDEE;ROLE=REQ-PARTICIPANT;PARTSTAT=ACCEPTED;RSVP=TRUE;CN="W. Brans
 tetter":http://arapahoeteaparty.ning.com/profile/WBranstetter
END:VEVENT
END:VCALENDAR
