BEGIN:VCALENDAR
PRODID:NingEventWidget-v1
VERSION:2.0
METHOD:PUBLISH
BEGIN:VEVENT
UID:3186561:Event:27470
DTSTAMP:20210313T174721Z
SUMMARY:Reminder of Monthly Meeting (ATP) with speaker Senator Mark Hi
 llman
DESCRIPTION:The Arapahoe County Tea Party will be meeting at its regul
 ar date (October 4) and time (6:30-8:30 p.m)Â but has a change of loca
 tion to Blossom's at Heather Gardens.Â  Blossom's has a buffet that wi
 ll be serving baked salmon Tuesday evening and adult beverages are ava
 ilable.Â  This arrangement might prove very helpful for anyone who wou
 ld be arriving early or directly from work.Â Â Blossom's is located ne
 ar I-225 and Parker Road.\nÂ \nFormer Colorado State Senator (1999-200
 5)Â and ActingÂ State Treasurer (2005-2006)Â Mark Hillman will speak o
 n \"Obama's 2012 Gamble.\"Â  Â Mr. Hillman developed quiteÂ a reputati
 on while he was in the state legislature and recognized as National Le
 gislator of the Year, Champion of the Taxpayer, Guardian of Small Busi
 ness, among other awards.\nÂ \nhttp://www.markhillman.com/\nhttp://dev
 .i2i.org/markhillman.php\nhttp://www.youtube.com/watch?v=vsNVguZVMxkÂ 
 \nhttp://www.youtube.com/watch?v=cVH9t6iYa4Y&NR=1\nÂ \nhttp://www.yout
 ube.com/watch?v=aTowFN25RhI\nÂ \nIf you have a topic that needs to be 
 added to the discussion items for the meeting, please place it in the 
 comments section below.Â \nÂ \nOne of the topics of continuing discuss
 ion is the need to find leadership for the group.Â  The groupÂ should 
 consider some of the projects that may be needed during the next year 
 or so in the selection process.Â Â If you have suggestions for leaders
 hip, committees, or other plans,Â please add a comment.Â  Currently it
  seems appropriate to take some time to find good leadership and devel
 op a plan that could be voted on perhaps at the November 1 meeting.\nÂ
  \nThis event was originally posted at and there may be information th
 ere that I have forgotten:\nÂ \nhttp://arapahoeteaparty.ning.com/event
 s/monthly-meeting-atp-speaker-mark-hillman\nÂ \nMap:\nhttp://maps.goog
 le.com/maps?hl=en&cp=4&gs_id=d&xhr=t&qe=Qmxvcw&qesig=-BJfTNar_XMI1bPu0
 _yjFQ&pkc=AFgZ2tksbELPoMj_5x5Yk6hMil_qpI5Rntcl1rGDJCKXfXOfie_8WGLHFw6Z
 c-SrmyyCDCRUcuTyrO4Q2xfB95I7aiQ99NwroQ&gs_upl=&bav=on.2,or.r_gc.r_pw.,
 cf.osb&biw=1366&bih=587&wrapid=tljp131759230254906&um=1&ie=UTF-8&q=blo
 ssoms+restaurant+aurora+colorado&fb=1&gl=us&hq=blossoms+restaurant&hne
 ar=0x876c588622ba2b9b:0x8441e0688ba2e678,Aurora,+CO&ei=89yITva8NOjSiAK
 N_tmlDA&sa=X&oi=local_group&ct=image&sqi=2&ved=0CBEQtgM\nÂ \nÂ \nÂ \n\
 nFor more information visit http://arapahoeteaparty.ning.com/events/re
 minder-of-monthly-meeting-atp-with-speaker-senator-mark-hillman
DTSTART:20111005T003000Z
DTEND:20111005T023000Z
CATEGORIES:"monthly meeting"
LOCATION:Blossom's Restaurant at Heather Gardens
WEBSITE:http://arapahoeteaparty.ning.com/
URL:http://arapahoeteaparty.ning.com/
CONTACT:(303) 690-5401
ORGANIZER;CN="W. Branstetter":http://arapahoeteaparty.ning.com/profile
 /WBranstetter
ATTACH;FMTTYPE="image/jpeg":
ATTENDEE;ROLE=REQ-PARTICIPANT;PARTSTAT=ACCEPTED;RSVP=TRUE;CN="W. Brans
 tetter":http://arapahoeteaparty.ning.com/profile/WBranstetter
ATTENDEE;ROLE=REQ-PARTICIPANT;PARTSTAT=TENTATIVE;RSVP=TRUE;CN="Fredric
 k Lindner":http://arapahoeteaparty.ning.com/profile/FredrickDLindner
ATTENDEE;ROLE=REQ-PARTICIPANT;PARTSTAT=TENTATIVE;RSVP=TRUE;CN="Kevin K
 eator":http://arapahoeteaparty.ning.com/profile/KevinKeator
END:VEVENT
END:VCALENDAR
