BEGIN:VCALENDAR
PRODID:NingEventWidget-v1
VERSION:2.0
METHOD:PUBLISH
BEGIN:VEVENT
UID:3186561:Event:25363
DTSTAMP:20210313T171257Z
SUMMARY:Reminder:  Monthly Meeting
DESCRIPTION:This is a reminder for the monthly meeting this evening. 
  See the original post at:\n \nhttp://arapahoeteaparty.ning.com/event
 s/monthly-meeting-amanda-teresi-muell-of-liberty-on-the-rocks\n \nRan
 dy Corporon will be the group leader for the evening and will have th
 e agenda.  Leadership for our future meetings is expected to be a top
 ic for discussion.\n \nReminder that November 1, 2011, will be electi
 on day for local candidates and issues.  Please consider getting invo
 lved with the candidates and assisting in some manner with campaigns o
 r help get information out on the ballot issues. \n \nNext scheduled
  meeting will be October 4 with speaker Mark Hillman.  The library r
 ooms are not available but Cathy Mitchell has made arrangements for 
 an alternate location so watch for the notice of the location.\n  \n
  \n\nFor more information visit http://arapahoeteaparty.ning.com/even
 ts/reminder-monthly-meeting
DTSTART:20110907T003000Z
DTEND:20110907T030000Z
CATEGORIES:"monthly meeting"
LOCATION:Smoky Hill Library
WEBSITE:
URL:
CONTACT:(303) 690-5401
ORGANIZER;CN="W. Branstetter":http://arapahoeteaparty.ning.com/profile
 /WBranstetter
ATTACH;FMTTYPE="image/jpeg":
ATTENDEE;ROLE=REQ-PARTICIPANT;PARTSTAT=ACCEPTED;RSVP=TRUE;CN="Margaret
  Ireland":http://arapahoeteaparty.ning.com/profile/MargaretIreland
ATTENDEE;ROLE=REQ-PARTICIPANT;PARTSTAT=ACCEPTED;RSVP=TRUE;CN="Cathy Mi
 tchell":http://arapahoeteaparty.ning.com/profile/CathyMitchell
ATTENDEE;ROLE=REQ-PARTICIPANT;PARTSTAT=ACCEPTED;RSVP=TRUE;CN="W. Brans
 tetter":http://arapahoeteaparty.ning.com/profile/WBranstetter
END:VEVENT
END:VCALENDAR
