BEGIN:VCALENDAR
PRODID:NingEventWidget-v1
VERSION:2.0
METHOD:PUBLISH
BEGIN:VEVENT
UID:3186561:Event:33472
DTSTAMP:20210313T171650Z
SUMMARY:Reminder:  Monthly Meeting for Arapahoe County Tea Party
DESCRIPTION:A reminder that there is a meeting January 3.Â  Hope you w
 ill join us.Â  Â \nÂ \nArapahoe County Tea Party -- Monthly Meeting --
  Preliminary Agenda\nÂ \n6:30 - 6:45:Â  Introductions\n6:45 - 7:00:Â  
 Review announcement handout\nÂ \n7:00 - 8:00:Â Â Randy Corporon will h
 ave details but subjects may include:\nÂ Â Â Â Â Â Â Â Â Â Â Â Â Â Â Â
  Â Â  How to get involved for 2012\nÂ Â Â Â Â Â Â Â Â Â Â Â Â Â Â Â Â 
 Â Â  --Â  Caucus training events\nÂ Â Â Â Â Â Â Â Â Â Â Â Â Â Â Â Â Â 
 Â  --Â  Other organizations [i.e., R Block Party or GOP groups]\nÂ Â Â
  Â Â Â Â Â Â Â Â Â Â Â Â Â Â Â Â  --Â  Volunteer\nÂ Â Â Â Â Â Â Â Â Â 
 Â Â Â Â Â Â Â Â Â  --Â  Precinct leaders or other vacancies\nÂ Â Â Â Â
  Â Â Â Â Â Â Â Â Â Â Â Â Â Â  --Â  Attend your caucus on February 7 if
  you are registered Republican\nÂ \nÂ \n8:00 - 8:30:Â  Final comments\
 nÂ \n8:30:Â  Adjourn and socialize [room needs to have chairs andÂ tab
 les cleared]\nÂ \n9:00:Â  Facilities are closed promptly\nÂ \nAt the N
 ovember 1, 2011, meeting Randy B. Corporon was nominated and elected t
 o lead the meetings.Â  There was no December meeting because of severa
 l conflicting events.Â  Hopefully, Randy will have some good ideas for
  this meeting since he should have had time to think while he is recup
 erating from a fall and 5 broken ribs.\nÂ \nThere are several organiza
 tional events coming and February 7, 2012, will be caucus night in Col
 orado.Â  There are caucus training events that will be posted.Â  Caucu
 s is the major way to get involved and have your voice heard at an ear
 ly time and often through the political process.\nÂ \nPlease add comme
 nts if you have topic suggestions or other ideas.\nÂ \nOriginally post
 ed at:Â  http://arapahoeteaparty.ning.com/events/monthly-meeting-for-a
 rapahoe-county-tea-party-1\nÂ \n************************Note:Â  Librar
 y closes promptly at 9:00 p.m.\nDisclaimer: \"Granting of permission b
 y the Arapahoe Library District to use library facilities does not con
 stitute endorsement by the Library District Staff or Board of Trustees
 . \" Only signs that are 8 Â½ x 11 are allowed to be posted & only by 
 the meeting room(s).\nÂ \nÂ \nÂ \n\nFor more information visit http://
 arapahoeteaparty.ning.com/events/reminder-monthly-meeting-for-arapahoe
 -county-tea-party
DTSTART:20120104T013000Z
DTEND:20120104T033000Z
CATEGORIES:"monthly meeting"
LOCATION:Smoky Hill Library; Room A
WEBSITE:http://arapahoeteaparty.ning.com/
URL:http://arapahoeteaparty.ning.com/
CONTACT:(303) 690-5401
ORGANIZER:posted by W. Branstetter
ATTACH;FMTTYPE="image/jpeg":
ATTENDEE;ROLE=REQ-PARTICIPANT;PARTSTAT=ACCEPTED;RSVP=TRUE;CN="Ron Tann
 ascoli":http://arapahoeteaparty.ning.com/profile/RonTannascoli
ATTENDEE;ROLE=REQ-PARTICIPANT;PARTSTAT=ACCEPTED;RSVP=TRUE;CN="Randy B 
 Corporon":http://arapahoeteaparty.ning.com/profile/RandyBCorporon
ATTENDEE;ROLE=REQ-PARTICIPANT;PARTSTAT=ACCEPTED;RSVP=TRUE;CN="W. Brans
 tetter":http://arapahoeteaparty.ning.com/profile/WBranstetter
END:VEVENT
END:VCALENDAR
