BEGIN:VCALENDAR
PRODID:NingEventWidget-v1
VERSION:2.0
METHOD:PUBLISH
BEGIN:VEVENT
UID:3186561:Event:37307
DTSTAMP:20210313T172304Z
SUMMARY:Reminder:  Monthly Meeting--Arapahoe County Tea Party
DESCRIPTION:Plan on attending the June meeting of Arapahoe County Tea 
 Party on June 5.  There is a lot to be talking about and ideas for ge
 tting involved for the next few months. \n \nKLZ 560 radio is advert
 ising that the speaker will be Thomas Ryan for the topic of the FASTER
  lawsuit..\n  \nArapahoe County Tea Party -- Monthly Meeting\n \n 
 \n6:30 - 8:30:  Meeting program to be announced soon\n \n8:30:  Adj
 ourn and socialize [room needs to have chairs and tables cleared and 
 stored]\n \n9:00:  Facilities are closed promptly by library staff\n
  \n \nAll of the candidates will be vying for your attention in June
  since the Colorado primary is scheduled for June 26.  This a terrifi
 c opportunity to meet candidates and become informed, involved as volu
 nteers, or other activities.  Candidates for all positions are lookin
 g for monetary support--support them if you can.\n \nWatch for event 
 announcements for other groups that have educational meetings and even
 ts.  Many events will be posted in the events section or on the Faceb
 ook page (Arap TeaParty). \n \nhttp://arapahoeteaparty.ning.com/\n 
 \n  ************************\n  Note:  Library closes promptly at 9
 :00 p.m.\n Disclaimer: \"Granting of permission by the Arapahoe Librar
 y District to use library facilities does not constitute endorsement b
 y the Library District Staff or Board of Trustees. \" Only signs that 
 are 8 ½ x 11 are allowed to be posted & only by the meeting room(s).\
 n \n \n   \n \n\nFor more information visit http://arapahoeteapa
 rty.ning.com/events/reminder-monthly-meeting-arapahoe-county-tea-party
DTSTART:20120606T003000Z
DTEND:20120606T023000Z
CATEGORIES:"monthly meeting"
LOCATION:Smoky Hill Library; Room A
WEBSITE:http://arapahoeteaparty.ning.com/
URL:http://arapahoeteaparty.ning.com/
CONTACT:(303) 690-5401
ORGANIZER:posted by W. Branstetter
ATTACH;FMTTYPE="image/jpeg":
ATTENDEE;ROLE=REQ-PARTICIPANT;PARTSTAT=ACCEPTED;RSVP=TRUE;CN="Kevin Ke
 ator":http://arapahoeteaparty.ning.com/profile/KevinKeator
ATTENDEE;ROLE=REQ-PARTICIPANT;PARTSTAT=ACCEPTED;RSVP=TRUE;CN="W. Brans
 tetter":http://arapahoeteaparty.ning.com/profile/WBranstetter
END:VEVENT
END:VCALENDAR
