BEGIN:VCALENDAR
PRODID:NingEventWidget-v1
VERSION:2.0
METHOD:PUBLISH
BEGIN:VEVENT
UID:3186561:Event:34766
DTSTAMP:20210313T181333Z
SUMMARY:Randy Corporon with a Special Grassroots Radio Colorado
DESCRIPTION:Fresh off the 2012 Leadership Program of the Rockies Retre
 at, I will be filling in for Jason Worley and Kenneth Clark for anothe
 r special one-hour edition of Grassrootsradio Colorado.   Stepping ba
 ck from the day-to-day challenge of ground-level activism and the poli
 tical philosophy, candidate and issue debates, I will be joined for th
 e full hour by Reverend C.L. Byrant, former NAACP leader and self-prof
 essed \"Democratic Radical.\"   Reverend Bryant eventually escaped fr
 om the bondage of progressivism to claim the blessings of liberty. He 
 will describe the devastating impact upon the black community from its
  historic 95% support of the Democrat Party, and talk about his featur
 e-length documentary on this very issue being released soon in theater
 s across the nation, Runaway Slave.  To add local context and insight,
  I will also be joined for the full hour by Derrick Wilburn, founder o
 f the Rocky Mountain Black Tea Party and regular visitor and prior (an
 d we hope, future!) host of the show.   Should be a good one! Hope yo
 u can join us.\n\nFor more information visit http://arapahoeteaparty.n
 ing.com/events/randy-corporon-with-a-special-grassroots-radio-colorado
DTSTART:20120228T000000Z
DTEND:20120228T010000Z
CATEGORIES:conservative, talk, radio
LOCATION:KLZ AM, 560 the Source, Denver, or, smartphones and computers
  around the world at www.560thesource.com
WEBSITE:
URL:
CONTACT:Also available on your Smartphone via TuneIn Radio
ORGANIZER;CN="Randy B Corporon":http://arapahoeteaparty.ning.com/profi
 le/RandyBCorporon
ATTACH;FMTTYPE="image/jpeg":
ATTENDEE;ROLE=REQ-PARTICIPANT;PARTSTAT=ACCEPTED;RSVP=TRUE;CN="W. Brans
 tetter":http://arapahoeteaparty.ning.com/profile/WBranstetter
ATTENDEE;ROLE=REQ-PARTICIPANT;PARTSTAT=ACCEPTED;RSVP=TRUE;CN="Randy B 
 Corporon":http://arapahoeteaparty.ning.com/profile/RandyBCorporon
END:VEVENT
END:VCALENDAR
