BEGIN:VCALENDAR
PRODID:NingEventWidget-v1
VERSION:2.0
METHOD:PUBLISH
BEGIN:VEVENT
UID:3186561:Event:35163
DTSTAMP:20210313T171323Z
SUMMARY:Randy Corporon with a Special Grassroots Radio Colorado
DESCRIPTION:I'm filling in for Jason Worley with Ken Clark. Special Gu
 est Lineup: 5 PM Sheriff Joe Arpaio, 5:30 Robert Spencer, founder of J
 ihad Watch; in Studio: Trevor Loudon, featured in The Agenda and autho
 r of Barack Obama and The Enemies Within; plus your calls.  This will
  be an important show.  Please share with your friend.\n\nFor more in
 formation visit http://arapahoeteaparty.ning.com/events/randy-corporon
 -with-a-special-grassroots-radio-colorado-1
DTSTART:20120315T230000Z
DTEND:20120316T010000Z
CATEGORIES:conservative, talk, radio
LOCATION:560 KLZ AM Denver, or, www.560thesource.com
WEBSITE:http://www.560thesource.com
URL:http://www.560thesource.com
CONTACT:303-477-5600, also available on your smartphone via Tunein
ORGANIZER;CN="Randy B Corporon":http://arapahoeteaparty.ning.com/profi
 le/RandyBCorporon
ATTACH;FMTTYPE="image/jpeg":
ATTENDEE;ROLE=REQ-PARTICIPANT;PARTSTAT=ACCEPTED;RSVP=TRUE;CN="Brad Hug
 es":http://arapahoeteaparty.ning.com/profile/BradHuges
ATTENDEE;ROLE=REQ-PARTICIPANT;PARTSTAT=ACCEPTED;RSVP=TRUE;CN="W. Brans
 tetter":http://arapahoeteaparty.ning.com/profile/WBranstetter
ATTENDEE;ROLE=REQ-PARTICIPANT;PARTSTAT=ACCEPTED;RSVP=TRUE;CN="Randy B 
 Corporon":http://arapahoeteaparty.ning.com/profile/RandyBCorporon
END:VEVENT
END:VCALENDAR
