BEGIN:VCALENDAR
PRODID:NingEventWidget-v1
VERSION:2.0
METHOD:PUBLISH
BEGIN:VEVENT
UID:3186561:Event:35290
DTSTAMP:20210313T182354Z
SUMMARY:Randy Corporon in Studio 9 AM-12 on the Troubleshooter (Tom Ma
 rtino) Show 3/21/12
DESCRIPTION:FREE LEGAL ADVICE, AND WORTH EVERY PENNY! LISTEN OR, BETTE
 R YET, CALL IN ON ANY TOPIC. HOPE TO HEAR FROM YOU! 303-713-8255\n\nFo
 r more information visit http://arapahoeteaparty.ning.com/events/randy
 -corporon-in-studio-9-am-12-on-the-troubleshooter-tom-martin
DTSTART:20120321T150000Z
DTEND:20120321T180000Z
CATEGORIES:talk, radio
LOCATION:630 AM, KHOW, Denver's Talk Station, or, www.khow.com
WEBSITE:
URL:
CONTACT:
ORGANIZER;CN="Randy B Corporon":http://arapahoeteaparty.ning.com/profi
 le/RandyBCorporon
ATTACH;FMTTYPE="image/jpeg":
ATTENDEE;ROLE=REQ-PARTICIPANT;PARTSTAT=ACCEPTED;RSVP=TRUE;CN="Randy B 
 Corporon":http://arapahoeteaparty.ning.com/profile/RandyBCorporon
END:VEVENT
END:VCALENDAR
