BEGIN:VCALENDAR
PRODID:NingEventWidget-v1
VERSION:2.0
METHOD:PUBLISH
BEGIN:VEVENT
UID:3186561:Event:38576
DTSTAMP:20210313T171726Z
SUMMARY:Randy Corporon in for Ken Clark with Jason Worley on Grassroot
 s Radio Colorado Tuesday night.
DESCRIPTION:Please tune in, and give us a call (303-477-5600). Local a
 nd national Conservative talk radio. Always ready to rumble!\n\nFor mo
 re information visit http://arapahoeteaparty.ning.com/events/randy-cor
 poron-in-for-ken-clark-with-jason-worley-on-grassroots-r
DTSTART:20120821T230000Z
DTEND:20120822T010000Z
CATEGORIES:conservative, talk, radio
LOCATION:KLZ Denver, AM 560, The Source, or, www.560thesource.com, or,
  the great new Grassroots Radio app
WEBSITE:
URL:
CONTACT:
ORGANIZER;CN="Randy B Corporon":http://arapahoeteaparty.ning.com/profi
 le/RandyBCorporon
ATTACH;FMTTYPE="image/jpeg":
ATTENDEE;ROLE=REQ-PARTICIPANT;PARTSTAT=ACCEPTED;RSVP=TRUE;CN="W. Brans
 tetter":http://arapahoeteaparty.ning.com/profile/WBranstetter
ATTENDEE;ROLE=REQ-PARTICIPANT;PARTSTAT=ACCEPTED;RSVP=TRUE;CN="Randy B 
 Corporon":http://arapahoeteaparty.ning.com/profile/RandyBCorporon
ATTENDEE;ROLE=REQ-PARTICIPANT;PARTSTAT=TENTATIVE;RSVP=TRUE;CN="Lisa G 
 Spear":http://arapahoeteaparty.ning.com/profile/LisaGSpear
END:VEVENT
END:VCALENDAR
