BEGIN:VCALENDAR
PRODID:NingEventWidget-v1
VERSION:2.0
METHOD:PUBLISH
BEGIN:VEVENT
UID:3186561:Event:34711
DTSTAMP:20210313T173718Z
SUMMARY:Randy Corporon in for Ken and Jason on Grassroots Radio Colora
 do Monday Night!
DESCRIPTION:Conservative Talk Radio. Short (1 hour) show. Join me to d
 iscuss Presidents' Day, (good and bad presidents?) and/or current even
 ts. Rose Mary Zapor of the Zapor Law Office (elder law) will be in stu
 dio to discuss her frustration with big government from the Liberal si
 de. Noah Toro, my wonderful son, will be with me to discuss, if he wan
 ts to!, being a Conservative high-schooler in a very Liberal world. Ca
 ll in (303-477-5600) or, at least, check us out!\n\nFor more informati
 on visit http://arapahoeteaparty.ning.com/events/randy-corporon-in-for
 -ken-and-jason-on-grassroots-radio-colorado-
DTSTART:20120221T000000Z
DTEND:20120221T010000Z
CATEGORIES:conservative, talk, radio
LOCATION:KLZ AM 560 The Source, or, worldwide at www.560thesource.com
WEBSITE:http://www.560thesource.com
URL:http://www.560thesource.com
CONTACT:303-477-5600
ORGANIZER;CN="Randy B Corporon":http://arapahoeteaparty.ning.com/profi
 le/RandyBCorporon
ATTACH;FMTTYPE="image/jpeg":
ATTENDEE;ROLE=REQ-PARTICIPANT;PARTSTAT=ACCEPTED;RSVP=TRUE;CN="Randy B 
 Corporon":http://arapahoeteaparty.ning.com/profile/RandyBCorporon
END:VEVENT
END:VCALENDAR
