BEGIN:VCALENDAR
PRODID:NingEventWidget-v1
VERSION:2.0
METHOD:PUBLISH
BEGIN:VEVENT
UID:3186561:Event:38100
DTSTAMP:20210313T171753Z
SUMMARY:Randy Corporon in for Jason Worley with Ken Clark on Grassroot
 s Radio Colorado, MONDAY NIGHT!
DESCRIPTION:Please tune in, and give us a call (303-477-5600).  Local
  and national Conservative talk radio.  Always ready to rumble!\n\nFo
 r more information visit http://arapahoeteaparty.ning.com/events/randy
 -corporon-in-for-jason-worley-with-ken-clark-on-grassroots1
DTSTART:20120716T230000Z
DTEND:20120717T010000Z
CATEGORIES:conservative, talk, radio
LOCATION:KLZ Denver, AM 560, The Source, or, www.560thesource.com, or,
  the great new Grassroots Radio app
WEBSITE:
URL:
CONTACT:
ORGANIZER;CN="Randy B Corporon":http://arapahoeteaparty.ning.com/profi
 le/RandyBCorporon
ATTACH;FMTTYPE="image/jpeg":
ATTENDEE;ROLE=REQ-PARTICIPANT;PARTSTAT=ACCEPTED;RSVP=TRUE;CN="John J. 
 Waters":http://arapahoeteaparty.ning.com/profile/JohnJWaters
ATTENDEE;ROLE=REQ-PARTICIPANT;PARTSTAT=ACCEPTED;RSVP=TRUE;CN="W. Brans
 tetter":http://arapahoeteaparty.ning.com/profile/WBranstetter
ATTENDEE;ROLE=REQ-PARTICIPANT;PARTSTAT=ACCEPTED;RSVP=TRUE;CN="Randy B 
 Corporon":http://arapahoeteaparty.ning.com/profile/RandyBCorporon
END:VEVENT
END:VCALENDAR
