BEGIN:VCALENDAR
PRODID:NingEventWidget-v1
VERSION:2.0
METHOD:PUBLISH
BEGIN:VEVENT
UID:3186561:Event:37330
DTSTAMP:20210313T171751Z
SUMMARY:Randy Corporon in for Jason Worley with Ken Clark on Grassroot
 s Radio Colorado, TONIGHT!
DESCRIPTION:I hope you will join me and Kenneth Clark when I fill in
  for Jason Worley, the happy wanderer, on tonight's Grassrootsradio 
 Colorado, 5-7 PM MDT on AM 560, The Source, KLZ Denver, www.560thesou
 rce.com, Tunein Radio and the brand new and incredibly awesome (yes, I
 'm a wordsmith by trade) Grassroots Radio I-phone app. Please listen i
 n and give us a call. Liberals, Democrats, Marxists, Communists and ot
 her Obama supporters welcome. Just be ready to make your case. 303-477
 -5600.\n\nFor more information visit http://arapahoeteaparty.ning.com/
 events/randy-corporon-in-for-jason-worley-with-ken-clark-on-grassroots
 -r
DTSTART:20120622T230000Z
DTEND:20120623T010000Z
CATEGORIES:conservative, talk, radio
LOCATION:AM 560, The Source, KLZ Denver, or www.560thesource.com
WEBSITE:
URL:
CONTACT:303--477-5600
ORGANIZER;CN="Randy B Corporon":http://arapahoeteaparty.ning.com/profi
 le/RandyBCorporon
ATTACH;FMTTYPE="image/jpeg":
ATTENDEE;ROLE=REQ-PARTICIPANT;PARTSTAT=ACCEPTED;RSVP=TRUE;CN="Joseph W
 illiam Gabriele":http://arapahoeteaparty.ning.com/profile/JosephWillia
 mGabriele
ATTENDEE;ROLE=REQ-PARTICIPANT;PARTSTAT=ACCEPTED;RSVP=TRUE;CN="Randy B 
 Corporon":http://arapahoeteaparty.ning.com/profile/RandyBCorporon
ATTENDEE;ROLE=REQ-PARTICIPANT;PARTSTAT=ACCEPTED;RSVP=TRUE;CN="W. Brans
 tetter":http://arapahoeteaparty.ning.com/profile/WBranstetter
END:VEVENT
END:VCALENDAR
