BEGIN:VCALENDAR
PRODID:NingEventWidget-v1
VERSION:2.0
METHOD:PUBLISH
BEGIN:VEVENT
UID:3186561:Event:38473
DTSTAMP:20210313T171733Z
SUMMARY:Randy Corporon in for Jason Worley with Ken Clark on Grassroot
 s Radio Colorado, TONIGHT and Wednesday night
DESCRIPTION:PAUL RYAN IN TOWN TODAY. CALL US IF YOU WERE THERE OR HAVE
  AN OPINION ON WHETHER HE'S THE RIGHT VP PICK FOR TEA PARTY AND OTHER 
 LIBERTY-ORIENTED CONSERVATIVES? DOES HE OFFSET LINGERING SKEPTICISM OV
 ER MITT ROMNEY? SHOULD HE?\nBILL KRISTOL, EXECUTIVE EDITOR OF THE WEEK
 LY STANDARD AND FOX NEWS CONTRIBUTOR, WILL JOIN US AT 5:15 PM.\nOPEN C
 ARRY/CONCEAL CARRY. FIREARM LAW EXPERT ROBERT WAREHAM, ESQ. IN STUDIO 
 TODAY ON THE JIM MAPES' OPEN CARRY CASE AND OTHER IMPORTANT ISSUES.\nA
 LL THIS AND MORE, THIS WEEK ON GRASSROOTS RADIO COLORADO.\nPlease tune
  in, and give us a call (303-477-5600). Local and national Conservativ
 e talk radio. Always ready to rumble!\n\nFor more information visit ht
 tp://arapahoeteaparty.ning.com/events/randy-corporon-in-for-jason-worl
 ey-with-ken-clark-on-grassroots-4
DTSTART:20120814T230000Z
DTEND:20120815T010000Z
CATEGORIES:conservative, talk, radio
LOCATION:KLZ Denver, AM 560, The Source, or, www.560thesource.com, or,
  the great new Grassroots Radio app
WEBSITE:
URL:
CONTACT:303-477-5600
ORGANIZER;CN="Randy B Corporon":http://arapahoeteaparty.ning.com/profi
 le/RandyBCorporon
ATTACH;FMTTYPE="image/jpeg":
ATTENDEE;ROLE=REQ-PARTICIPANT;PARTSTAT=ACCEPTED;RSVP=TRUE;CN="Randy B 
 Corporon":http://arapahoeteaparty.ning.com/profile/RandyBCorporon
END:VEVENT
END:VCALENDAR
