BEGIN:VCALENDAR
PRODID:NingEventWidget-v1
VERSION:2.0
METHOD:PUBLISH
BEGIN:VEVENT
UID:3186561:Event:38351
DTSTAMP:20210313T171706Z
SUMMARY:Randy Corporon in for Jason Worley with Ken Clark on Grassroot
 s Radio Colorado, Monday, Tuesday and Wednesday night
DESCRIPTION:\nIS PAUL RYAN THE RIGHT VP PICK FOR TEA PARTY AND OTHER L
 IBERTY-ORIENTED CONSERVATIVES? DOES HE OFFSET LINGERING SKEPTICISM OVE
 R MITT ROMNEY? SHOULD HE?DID A REPUBLICAN LEGISLATOR SELL US OUT ON HE
 ALTH CARE EXCHANGES? WHAT CAN WE DO ABOUT IT?OPEN CARRY/CONCEAL CARRY.
  FIREARM LAW EXPERT ROBERT WAREHAM, ESQ. IN STUDIO TUESDAY. ALL THIS 
 AND MORE, THIS WEEK ON GRASSROOTS RADIO COLORADO.Please tune in, and g
 ive us a call (303-477-5600). Local and national Conservative talk rad
 io. Always ready to rumble!\n\n\n\n\nFor more information visit http:/
 /arapahoeteaparty.ning.com/events/randy-corporon-in-for-jason-worley-w
 ith-ken-clark-on-grassroots-1
DTSTART:20120813T230000Z
DTEND:20120814T010000Z
CATEGORIES:conservative, talk, radio
LOCATION:KLZ Denver, AM 560, The Source, or, www.560thesource.com, or,
  the great new Grassroots Radio app
WEBSITE:
URL:
CONTACT:303-477-5600
ORGANIZER;CN="Randy B Corporon":http://arapahoeteaparty.ning.com/profi
 le/RandyBCorporon
ATTACH;FMTTYPE="image/jpeg":
ATTENDEE;ROLE=REQ-PARTICIPANT;PARTSTAT=ACCEPTED;RSVP=TRUE;CN="Randy B 
 Corporon":http://arapahoeteaparty.ning.com/profile/RandyBCorporon
END:VEVENT
END:VCALENDAR
