BEGIN:VCALENDAR
PRODID:NingEventWidget-v1
VERSION:2.0
METHOD:PUBLISH
BEGIN:VEVENT
UID:3186561:Event:30362
DTSTAMP:20210313T175302Z
SUMMARY:Randy Corporon in for Jason Worley on Grassroots Radio TONIGHT
 !
DESCRIPTION:Don't miss \"Grassroots Radio Colorado\" Tuesday night as 
 Randy joins co-host Ken Clark, in for Jason Worley!Over the weekend, R
 andy participated in Americans for Prosperity's thrilling \"Defending 
 the American Dream\" summit - and saw the OccuSquatters in action as t
 hey banged on doors, faces covered in masks while gripping sticks, cha
 nted loudly, blocked streets, and caused old ladies to fall out of the
 ir wheelchairs. The contrast between the Tea Party and OWS couldn't be
  more stark. Find out all the first-hand details!Also, over the weeken
 d Herman Cain and Newt Gingrich put up their dukes and went head-to-he
 ad in a great debate. How did they compare?PLUS, as Grassroots Radio's
  new, exclusive law firm, we'll take your questions on any legal issue
 s. Be sure to check out The Law Offices of Randy B. Corporon on the we
 b at www.CorporonLaw.com and \"Like\" our Facebook page, The Law Off
 ices of Randy B. Corporon.Tune in from 5-7pm to \"Grassroots Radio,\" 
 only on AM 560 KLZ The Source!\n\nFor more information visit http://ar
 apahoeteaparty.ning.com/events/randy-corporon-in-for-jason-worley-on-g
 rassroots-radio-tonight
DTSTART:20111109T000000Z
DTEND:20111109T020000Z
CATEGORIES:radio, program
LOCATION:560 the Source, KLZ-AM
WEBSITE:
URL:
CONTACT:
ORGANIZER;CN="Randy B Corporon":http://arapahoeteaparty.ning.com/profi
 le/RandyBCorporon
ATTACH;FMTTYPE="image/jpeg":
ATTENDEE;ROLE=REQ-PARTICIPANT;PARTSTAT=ACCEPTED;RSVP=TRUE;CN="W. Brans
 tetter":http://arapahoeteaparty.ning.com/profile/WBranstetter
ATTENDEE;ROLE=REQ-PARTICIPANT;PARTSTAT=ACCEPTED;RSVP=TRUE;CN="Randy B 
 Corporon":http://arapahoeteaparty.ning.com/profile/RandyBCorporon
ATTENDEE;ROLE=REQ-PARTICIPANT;PARTSTAT=TENTATIVE;RSVP=TRUE;CN="Walter 
 Michel":http://arapahoeteaparty.ning.com/profile/WalterMichel
END:VEVENT
END:VCALENDAR
