BEGIN:VCALENDAR
PRODID:NingEventWidget-v1
VERSION:2.0
METHOD:PUBLISH
BEGIN:VEVENT
UID:3186561:Event:55785
DTSTAMP:20210313T180917Z
SUMMARY:Randy Corporon guest hosting Peter Boyles' Show on 710 KNUS
DESCRIPTION:Randy Corporon will guest host for the Peter Boyles Show o
 n 710 KNUS Monday and Wednesday 5:00-9:00 a.m. MT as well as Dan Capli
 s' Show Tuesday (December 29) 9:00-11:00 a.m. MT.  Be sure to tune in
  or check out the podcasts later.\n\nDon’t miss it! Tune in to 710 K
 NUS or online at http://www.710knus.com/. Call  303-696-1071. \n\nPo
 dcasts for the program can be found at the web pages of 710 KNUS:  htt
 p://www.710knus.com/\n\n\n\nFor more information visit http://arapahoe
 teaparty.ning.com/events/randy-corporon-guest-hosting-peter-boyles-sho
 w-on-710-knus
DTSTART:20151228T120000Z
DTEND:20151229T160000Z
CATEGORIES:"radio show"
LOCATION:\"Radio  AM 710 KNUS\"
WEBSITE:http://www.710knus.com/
URL:http://www.710knus.com/
CONTACT:
ORGANIZER:Randy Corporon [posted by W. Branstetter]
ATTACH;FMTTYPE="image/jpeg":
ATTENDEE;ROLE=REQ-PARTICIPANT;PARTSTAT=ACCEPTED;RSVP=TRUE;CN="W. Brans
 tetter":http://arapahoeteaparty.ning.com/profile/WBranstetter
END:VEVENT
END:VCALENDAR
