BEGIN:VCALENDAR
PRODID:NingEventWidget-v1
VERSION:2.0
METHOD:PUBLISH
BEGIN:VEVENT
UID:3186561:Event:55627
DTSTAMP:20210313T172810Z
SUMMARY:Randy Corporon guest hosting Peter Boyles' Show on 710 KNUS
DESCRIPTION:Randy Corporon will guest host for the Peter Boyles Show o
 n 710 KNUS Wednesday and Thursday 5:00-9:00 a.m. MT.  Be sure to tun
 e in or check out the podcasts later.\n\nDon’t miss it! Tune in to 7
 10 KNUS or online at http://www.710knus.com/. Call  303-696-1071. \n
 \nPodcasts for the program can be found at the web pages of 710 KNUS: 
  http://www.710knus.com/\n\n\n\nFor more information visit http://arap
 ahoeteaparty.ning.com/events/randy-corporon-guest-hosting-peter-boyles
 -show-on-710-knus-2
DTSTART:20160120T120000Z
DTEND:20160120T160000Z
CATEGORIES:"radio show"
LOCATION:\"Radio  AM 710 KNUS\"
WEBSITE:http://www.710knus.com/
URL:http://www.710knus.com/
CONTACT:
ORGANIZER:Randy Corporon [posted by W. Branstetter]
ATTACH;FMTTYPE="image/jpeg":
ATTENDEE;ROLE=REQ-PARTICIPANT;PARTSTAT=ACCEPTED;RSVP=TRUE;CN="Larry D 
 Walter":http://arapahoeteaparty.ning.com/profile/LarryDWalter
ATTENDEE;ROLE=REQ-PARTICIPANT;PARTSTAT=ACCEPTED;RSVP=TRUE;CN="W. Brans
 tetter":http://arapahoeteaparty.ning.com/profile/WBranstetter
END:VEVENT
END:VCALENDAR
