BEGIN:VCALENDAR
PRODID:NingEventWidget-v1
VERSION:2.0
METHOD:PUBLISH
BEGIN:VEVENT
UID:3186561:Event:55683
DTSTAMP:20210313T193344Z
SUMMARY:Randy Corporon guest hosting Dan Caplis' Show on 710 KNUS
DESCRIPTION:Randy Corporon will guest host for the Dan Caplis Show on 
 710 KNUS Wednesday 9:00-11:00 a.m. MT\n\nDon’t miss it! Tune in to 7
 10 KNUS or 1460 KZNT Colorado Springs or online at http://www.710knus.
 com/ from 5 to 8 PM. Call  303-696-1071. \n\nPodcasts for the progra
 m can be found at the web pages of 710 KNUS:  http://www.710knus.com/\
 n\n\n\nFor more information visit http://arapahoeteaparty.ning.com/eve
 nts/randy-corporon-guest-hosting-dan-caplis-show-on-710-knus
DTSTART:20151209T160000Z
DTEND:20151209T180000Z
CATEGORIES:"radio show"
LOCATION:\"Radio  AM 710 KNUS\"
WEBSITE:http://www.710knus.com/
URL:http://www.710knus.com/
CONTACT:
ORGANIZER:Randy Corporon [posted by W. Branstetter]
ATTACH;FMTTYPE="image/jpeg":
ATTENDEE;ROLE=REQ-PARTICIPANT;PARTSTAT=ACCEPTED;RSVP=TRUE;CN="W. Brans
 tetter":http://arapahoeteaparty.ning.com/profile/WBranstetter
END:VEVENT
END:VCALENDAR
