BEGIN:VCALENDAR
PRODID:NingEventWidget-v1
VERSION:2.0
METHOD:PUBLISH
BEGIN:VEVENT
UID:3186561:Event:37261
DTSTAMP:20210313T174557Z
SUMMARY:Rally to Occupy the Occupy Denver Event
DESCRIPTION:Some of the young conservatives have decided to \"Occupy 
 the Occupy Denver\" event this Saturday in downtown Denver.  The grou
 p apparently is planning to engage in some dialogue/debate with the oc
 cupiers.\n \nThe planners of the event plan to meet near the west ste
 ps of the Capitol to organize and plan at about noon.  They will head
  over to Civic Center Park at 3:00 p.m. \n \nAt the moment I do no
 t have the name of the organizing group.  Watch for additional detail
 s or just go for a nice afternoon at the park.\n \n \n \n\nFor more
  information visit http://arapahoeteaparty.ning.com/events/rally-to-oc
 cupy-the-occupy-denver-event
DTSTART:20120616T210000Z
DTEND:20120616T230000Z
CATEGORIES:rally
LOCATION:Capitol (Denver); Civic Center Park
WEBSITE:
URL:
CONTACT:
ORGANIZER:posted by W. Branstetter
ATTACH;FMTTYPE="image/jpeg":
ATTENDEE;ROLE=REQ-PARTICIPANT;PARTSTAT=TENTATIVE;RSVP=TRUE;CN="Mike Do
 nald":http://arapahoeteaparty.ning.com/profile/MikeDonald
END:VEVENT
END:VCALENDAR
