BEGIN:VCALENDAR
PRODID:NingEventWidget-v1
VERSION:2.0
METHOD:PUBLISH
BEGIN:VEVENT
UID:3186561:Event:47749
DTSTAMP:20210313T171852Z
SUMMARY:Rally:  Tell the EPA 'Enough Already' at the Capitol in Denver
DESCRIPTION:The EPA is on a listening tour with a stop in Denver.Â  Th
 is rally is titled:Â  \"Anti-EPA:Â  Rally to support Affordable Power 
 & Rural Economies.\"Â  \"The EPA holds a \"listening tour\" stop in De
 nver this week, to get public feedback on the next wave of unnecessary
  and costly regulations heading our way. Come to our Enough Already! R
 ally on Wednesday, October 30th and be sure they get an earful.\"\nÂ \
 nCapitol Building in Denver\n200 East Colfax Avenue\nDenver, ColoradoÂ
   80015\nÂ \nWednesday, October 30, 2013\n\nAn event announcement for 
 the rally:\n\nhttps://www.facebook.com/events/505796169516106/?source=
 1\n\nOne of the many groups involved with the rally is the Colorado Mi
 ning Association.\n\nhttp://www.coloradomining.org/Content/FileManager
 /102913_Keep_Energy_Reliable_and_affordable_for_colorado.pdf\n\nThe In
 dependence Institute has a good article on the purpose of the EPA list
 ening tour.Â  Please read:\nhttp://energy.i2i.org/2013/10/29/epa-carbo
 n-listening-tour-set-to-hit-denver-tomorrow/\n\n\n\nFor more informati
 on visit http://arapahoeteaparty.ning.com/events/rally-tell-the-epa-en
 ough-already-at-the-capitol-in-denver
DTSTART:20131030T193000Z
DTEND:20131030T213000Z
CATEGORIES:rally
LOCATION:Colorado State Capitol
WEBSITE:
URL:
CONTACT:
ORGANIZER:Colorado Mining Association et al. [posted by W. Branstetter
 ]
ATTACH;FMTTYPE="image/jpeg":
ATTENDEE;ROLE=REQ-PARTICIPANT;PARTSTAT=TENTATIVE;RSVP=TRUE;CN="W. Bran
 stetter":http://arapahoeteaparty.ning.com/profile/WBranstetter
END:VEVENT
END:VCALENDAR
