BEGIN:VCALENDAR
PRODID:NingEventWidget-v1
VERSION:2.0
METHOD:PUBLISH
BEGIN:VEVENT
UID:3186561:Event:47526
DTSTAMP:20210313T180007Z
SUMMARY:Rally in DC today--livestream
DESCRIPTION:Breitbart has the livestream:\n\nhttp://www.breitbart.com/
 Breitbart-TV/2013/09/10/Rally-Live-Stream\n\nFor more information visi
 t http://arapahoeteaparty.ning.com/events/rally-in-dc-today-livestream
DTSTART:20130910T160000Z
DTEND:20130910T190000Z
CATEGORIES:rally
LOCATION:Capitol in DC
WEBSITE:http://www.breitbart.com/Breitbart-TV/2013/09/10/Rally-Live-St
 ream
URL:http://www.breitbart.com/Breitbart-TV/2013/09/10/Rally-Live-Stream
CONTACT:
ORGANIZER:posted by W. Branstetter
ATTACH;FMTTYPE="image/jpeg":
ATTENDEE;ROLE=REQ-PARTICIPANT;PARTSTAT=ACCEPTED;RSVP=TRUE;CN="W. Brans
 tetter":http://arapahoeteaparty.ning.com/profile/WBranstetter
END:VEVENT
END:VCALENDAR
