BEGIN:VCALENDAR
PRODID:NingEventWidget-v1
VERSION:2.0
METHOD:PUBLISH
BEGIN:VEVENT
UID:3186561:Event:35138
DTSTAMP:20210313T173441Z
SUMMARY:Rally:  \"Hands Off My Healthcare\" by Americans For Prosperit
 y
DESCRIPTION:For those who may be interested, there is a Rally:  \"Han
 ds Off My Healthcare\" by Americans For Prosperity on March 27 from no
 on to 1:30 p.m.\n \nIt has been 2 years since the Affordable Care Act
  [aka \"Obamacare\"] was passed and a lot has transpired. \n \nhttps
 ://www.facebook.com/photo.php?fbid=3603805740211&set=o.171086019576639
 &type=1#!/photo.php?fbid=3603805740211&set=o.171086019576639&type=1&th
 eater\n \nThere is a big event in Washington, D.C. for this date.\nht
 tp://americansforprosperity.org/handsoff/\n \nRSVP:  Leslie White at
  (720) 400-3966\nthere is an e-mail in the flyer photo\n \n\nFor more
  information visit http://arapahoeteaparty.ning.com/events/rally-hands
 -off-my-healthcare-by-americans-for-prosperity
DTSTART:20120327T180000Z
DTEND:20120327T193000Z
CATEGORIES:rally
LOCATION:West Steps of Capitol, Denver, Colorado
WEBSITE:
URL:
CONTACT:Leslie White at (720) 400-3966
ORGANIZER:Leslie White
ATTACH;FMTTYPE="image/jpeg":
ATTENDEE;ROLE=REQ-PARTICIPANT;PARTSTAT=ACCEPTED;RSVP=TRUE;CN="Fredrick
  Lindner":http://arapahoeteaparty.ning.com/profile/FredrickDLindner
ATTENDEE;ROLE=REQ-PARTICIPANT;PARTSTAT=ACCEPTED;RSVP=TRUE;CN="W. Brans
 tetter":http://arapahoeteaparty.ning.com/profile/WBranstetter
END:VEVENT
END:VCALENDAR
