BEGIN:VCALENDAR
PRODID:NingEventWidget-v1
VERSION:2.0
METHOD:PUBLISH
BEGIN:VEVENT
UID:3186561:Event:37874
DTSTAMP:20210313T180133Z
SUMMARY:Rally:  Greet Mrs. Obama and Drive Time \"Groceries or Gas?\"
DESCRIPTION:You are invited to join in a rally toÂ greet Michelle Obam
 a, whoÂ will be in Colorado to speak at a couple of events.Â  The othe
 r goal of the rally is to give drivers something to think about during
  drive time.Â \nÂ \nSo bring your signs; and Lori and Nikki with R Blo
 ck Party will make sure the banner \"Groceries or Gas? / Thanks Obama\
 " will be there.Â \nÂ \nHere is Lori's announcement:Â  \"Nikki and I w
 ill be at Arapahoe High School tomorrow morning to \"greet\" Michelle 
 Obama and give drive time folks something to think about (Gas or Groce
 ries?Â  Thanks Obama)Â  Join us tomorrow at the corner of Dry Creek an
 d University (drive time 7 or so) or when she goes away (around 11) or
  anytime in between.\"\nÂ \nBring as many people as you can with you.Â
  \nÂ \n\nFor more information visit http://arapahoeteaparty.ning.com/e
 vents/rally-greet-mrs-obama-and-drive-time-groceries-or-gas
DTSTART:20120620T130000Z
DTEND:20120620T170000Z
CATEGORIES:rally
LOCATION:Intersection of Dry Creek Road and University near Arapahoe H
 igh School
WEBSITE:http://goo.gl/maps/4INE
URL:http://goo.gl/maps/4INE
CONTACT:
ORGANIZER:R Block Party [posted by W. Branstetter]
ATTACH;FMTTYPE="image/jpeg":
ATTENDEE;ROLE=REQ-PARTICIPANT;PARTSTAT=ACCEPTED;RSVP=TRUE;CN="Leslie S
 loan":http://arapahoeteaparty.ning.com/profile/LeslieSloan
ATTENDEE;ROLE=REQ-PARTICIPANT;PARTSTAT=ACCEPTED;RSVP=TRUE;CN="W. Brans
 tetter":http://arapahoeteaparty.ning.com/profile/WBranstetter
END:VEVENT
END:VCALENDAR
