BEGIN:VCALENDAR
PRODID:NingEventWidget-v1
VERSION:2.0
METHOD:PUBLISH
BEGIN:VEVENT
UID:3186561:Event:42363
DTSTAMP:20210313T172533Z
SUMMARY:Rally (at the Capitol):  In Support of Your 2nd Amendment Righ
 ts
DESCRIPTION:This event was posted on Facebook by  Aaron Ellis:\n \n
 Monday, Monday 4, 2013\nTime:  8:00 a.m. to ?\nThe committee hearings
  will start at 10:30 a.m. with the sign up to speak starting at 10:00 
 a.m.\n[Note:  the committee start time was originally 1:30 p.m. but w
 as changed]\nSenate and House sessions convene in the morning?\nColora
 do Capitol\n200 East Colfax Avenue\nDenver, Colorado \n \nhttps://ww
 w.facebook.com/groups/123123874392949/permalink/515235005181832/#!/eve
 nts/163255400497902/ \n \n\"Take a stand for our 2nd Amendment! It i
 s not about hunting or home defense but a matter of national security!
  We must take a stand and let the Colorado State and Federal Governmen
 t know that we support and defend the Constitution of the United State
 s. \n \n   \"A well regulated Militia, being necessary to the secur
 ity of a free State, the right of the people to keep and bear Arms, sh
 all not be infringed.\"\n \n*************************\n\nPlease talk 
 with your family and neighbors about the votes and comments the legisl
 ators are making at the capitol.  Get informed and involved.\n \nBe 
 sure to find out who your state representative and senator is and sign
  up for e-mail alerts to their bills and townhalls.  Attend their nex
 t townhall and ask questions.\n \nWatch for announcements on Facebook
  group \"Arapahoe Tea Party\" or other groups.  Grassroots Radio on K
 LZ 560 radio evenings 5:00-7:00 p.m.  Podcasts are at:\n\nhttp://grrc
 .podomatic.com/\n \nInformation for committee hearings will be posted
  as a separate event.\n \n Note that there will be a regular monthly
  meeting for Arapahoe County Tea Party on March 5 so please watch for 
 an announcement.\n Please refer to this site for information on the bi
 lls and committees:\n\nhttp://www.coloradosenatenews.com/?q=content/st
 and-2nd-amendment\n\n\nFor more information visit http://arapahoeteapa
 rty.ning.com/events/rally-at-the-capitol-in-support-of-your-2nd-amendm
 ent-rights
DTSTART:20130304T070000Z
DTEND:20130305T065900Z
CATEGORIES:rally
LOCATION:At or near Colorado Capitol
WEBSITE:
URL:
CONTACT:
ORGANIZER:[posted by W. Branstetter]
ATTACH;FMTTYPE="image/jpeg":
ATTENDEE;ROLE=REQ-PARTICIPANT;PARTSTAT=ACCEPTED;RSVP=TRUE;CN="W. Brans
 tetter":http://arapahoeteaparty.ning.com/profile/WBranstetter
ATTENDEE;ROLE=REQ-PARTICIPANT;PARTSTAT=ACCEPTED;RSVP=TRUE;CN="Joseph W
 illiam Gabriele":http://arapahoeteaparty.ning.com/profile/JosephWillia
 mGabriele
END:VEVENT
END:VCALENDAR
