BEGIN:VCALENDAR
PRODID:NingEventWidget-v1
VERSION:2.0
METHOD:PUBLISH
BEGIN:VEVENT
UID:3186561:Event:49568
DTSTAMP:20210313T172917Z
SUMMARY:Rally at Capitol against Common Core, includes various candida
 tes and speakers
DESCRIPTION:There was an announcement on Grassroots Radio Colorado Fri
 day evening, April 4, about this rally.  I did not catch the name of 
 the organization sponsoring the event, but the rally is against \"Comm
 on Core\" from what I could understand.  \n\nKen Clark will moderate 
 the event and introduce speakers.  Some of the speakers will be candi
 dates for office.\n\nIt sounds like it would be a good event to attend
 .\n\n\n\nFor more information visit http://arapahoeteaparty.ning.com/e
 vents/rally-at-capitol-against-common-core-includes-various-candidates
 -
DTSTART:20140405T180000Z
DTEND:20140405T203000Z
CATEGORIES:rally
LOCATION:Capitol Building, west steps
WEBSITE:
URL:
CONTACT:
ORGANIZER:posted by W. Branstetter
ATTACH;FMTTYPE="image/jpeg":
ATTENDEE;ROLE=REQ-PARTICIPANT;PARTSTAT=ACCEPTED;RSVP=TRUE;CN="Joseph W
 illiam Gabriele":http://arapahoeteaparty.ning.com/profile/JosephWillia
 mGabriele
END:VEVENT
END:VCALENDAR
