BEGIN:VCALENDAR
PRODID:NingEventWidget-v1
VERSION:2.0
METHOD:PUBLISH
BEGIN:VEVENT
UID:3186561:Event:51123
DTSTAMP:20210313T173833Z
SUMMARY:Rally:  Americans Against Terrorism \"Rally for Israel\" at Ca
 pitol Building in Denver
DESCRIPTION:Rally:  Americans Against Terrorism \"Rally for Israel\"\
 n\nWest steps of the Capitol Building in Denver, Colorado\n200 East Co
 lfax Avenue\nDenver, Colorado\n\nSunday, July 27, 2014 at 2:00 p.m.\n\
 nhttp://aatcolorado.webs.com/index.htm/\n\n************************\n\
 n\"Flashmob\" in Europe\nhttps://www.youtube.com/watch?v=JEXft7yO8mA\n
 \nKlavan video from 2011:\nhttps://www.youtube.com/watch?v=uIEeiDjdUuU
 &feature=youtu.be\n\nBill Whittle's comments:\nhttp://www.westernjourn
 alism.com/liberals-dont-want-know-real-difference-israel-hamas/\n\n\nF
 or more information visit http://arapahoeteaparty.ning.com/events/rall
 y-americans-against-terrorism-rally-for-israel-at-capitol-bui
DTSTART:20140727T200000Z
DTEND:20140727T220000Z
CATEGORIES:rally
LOCATION:Colorado Capitol in Denver (west steps)
WEBSITE:http://aatcolorado.webs.com/index.htm/
URL:http://aatcolorado.webs.com/index.htm/
CONTACT:
ORGANIZER:[posted by W. Branstetter]
ATTACH;FMTTYPE="image/jpeg":
ATTENDEE;ROLE=REQ-PARTICIPANT;PARTSTAT=ACCEPTED;RSVP=TRUE;CN="Gail Gra
 vina":http://arapahoeteaparty.ning.com/profile/GailGravina
ATTENDEE;ROLE=REQ-PARTICIPANT;PARTSTAT=ACCEPTED;RSVP=TRUE;CN="W. Brans
 tetter":http://arapahoeteaparty.ning.com/profile/WBranstetter
END:VEVENT
END:VCALENDAR
