BEGIN:VCALENDAR
PRODID:NingEventWidget-v1
VERSION:2.0
METHOD:PUBLISH
BEGIN:VEVENT
UID:3186561:Event:48495
DTSTAMP:20210313T182351Z
SUMMARY:Radio:  Wake Up with Randy Corporon (M-F, 5-7 a.m.) on KLZ 560
DESCRIPTION:Arapahoe County Tea Party chairman Randy Corporon has been
  tapped to host a new program on KLZ 560 radio starting Monday, Januar
 y 6, 2014.  The program will air weekday mornings (M-F) between 5:00 
 and 7:00 a.m.\n\nRandy had some really good supporters call in for the
  first show and Marc Zarlengo was in studio for the second hour.  Che
 ck out Marc's web site OGRE eXposed:\n\nhttp://ogreexposed.org/\n\n\n 
 “Wake Up with Randy Corporon”\n \nOn KLZ 560 AM  “The Source
 \nhttp://www.560thesource.com/\n \n Show can be heard along the fron
 t range of Colorado.   Out of range??  Just listen on TuneIn Radio a
 nywhere in the world!!\n\n\n\n************************\n\nUse the \"Li
 sten\" button on the KLZ 560 web site listed above for computer connec
 tion to the show.\n\n**************************\n\n\nThere is a Facebo
 ok events page for the debut program at:\n\nhttps://www.facebook.com/e
 vents/254703728026510/?source=1\n\nLeave your ideas for future shows o
 n this Facebook page if you use Facebook.  \n\nTune in for more infor
 mation.\n\nPodcasts will be coming.\n\nStudio line: 303-477-5600.\n\n*
 **********************************\n\nRandy undoubtedly will have lots
  of material to kick off his new program considering Colorado legislat
 ure starts Wednesday and there is so much to do and talk about.\n\n\n\
 nFor more information visit http://arapahoeteaparty.ning.com/events/ra
 dio-wake-up-with-randy-corporon-m-f-5-7-a-m-on-klz-560
DTSTART:20140107T120000Z
DTEND:20140107T140000Z
CATEGORIES:"radio show"
LOCATION:\"KLZ 560 AM the source radio\"
WEBSITE:http://www.560thesource.com/
URL:http://www.560thesource.com/
CONTACT:
ORGANIZER:Randy  B. Corporon [posted by W. Branstetter]
ATTACH;FMTTYPE="image/jpeg":
ATTENDEE;ROLE=REQ-PARTICIPANT;PARTSTAT=ACCEPTED;RSVP=TRUE;CN="Randy B 
 Corporon":http://arapahoeteaparty.ning.com/profile/RandyBCorporon
ATTENDEE;ROLE=REQ-PARTICIPANT;PARTSTAT=ACCEPTED;RSVP=TRUE;CN="W. Brans
 tetter":http://arapahoeteaparty.ning.com/profile/WBranstetter
END:VEVENT
END:VCALENDAR
