BEGIN:VCALENDAR
PRODID:NingEventWidget-v1
VERSION:2.0
METHOD:PUBLISH
BEGIN:VEVENT
UID:3186561:Event:51611
DTSTAMP:20210313T181932Z
SUMMARY:Radio:  \"The Jimmy Sengenberger Show\" with Matt Dunn sitting
  in
DESCRIPTION:Jimmy will be taking the night off and has arranged for Ma
 tt Dunn, host of the Sunday evening \"Backbone Radio\" show, to fill i
 n. Â \n\nFor those people who are not going to the Arapahoe County Rep
 ublican Lincoln Day dinner, you will get an extra evening with Matt Du
 nn. Â Be sure to tune in to Backbone Radio, Sunday evenings on 710 KNU
 S from 5-8 p.m.\n\n\"The Jimmy Sengenberger Show\" program started on 
 710 KNUS radio Saturday, September 21, 2013, 5 p.m. to 8 p.m.\n\nÂ \nJ
 immy Sengenberger had the \"Seng Center\" program on the Regis Univers
 ity campus until he graduated a couple of years ago.Â  He has filled i
 n for a variety of radio hosts all over the metro area and Greeley.\nÂ
  \nDonâ€™t miss it!Â  Tune in to 710 KNUS or online at http://www.710k
 nus.com/ from 5 to 8 PM. CallÂ  303-696-1071.\nÂ \nThe podcasts for th
 e program can be found on the 710 KNUS podcasts page.Â  Look for Jimmy
  Sengenberger:\n\nhttp://www.710knus.com/podcastlineup.aspx\n\n\nÂ \n 
 Â \n\n\nFor more information visit http://arapahoeteaparty.ning.com/ev
 ents/radio-the-jimmy-sengenberger-show-with-matt-dunn-sitting-in
DTSTART:20140913T230000Z
DTEND:20140914T020000Z
CATEGORIES:"radio show"
LOCATION:\"Radio  AM 710 KNUS\"
WEBSITE:http://www.710knus.com/
URL:http://www.710knus.com/
CONTACT:
ORGANIZER:Jimmy Sengenberger [posted by W. Branstetter]
ATTACH;FMTTYPE="image/jpeg":
ATTENDEE;ROLE=REQ-PARTICIPANT;PARTSTAT=ACCEPTED;RSVP=TRUE;CN="W. Brans
 tetter":http://arapahoeteaparty.ning.com/profile/WBranstetter
END:VEVENT
END:VCALENDAR
