BEGIN:VCALENDAR
PRODID:NingEventWidget-v1
VERSION:2.0
METHOD:PUBLISH
BEGIN:VEVENT
UID:3186561:Event:52235
DTSTAMP:20210313T175518Z
SUMMARY:Radio:  \"The Jimmy Sengenberger Show\" with Cory Gardner et a
 l.
DESCRIPTION:Be sure to tune in for the Jimmy Sengenberger radio show.\
 n \"...Â my take on Jonathan Gruber and playing some more astounding a
 udio from television this week! Then, Senator-elect Cory Gardner will 
 join me to discussÂ â€ª#â€ŽObamacareâ€¬, immigration, and Congress' po
 wer of the purse. We'll open up the phones to YOUR feedback on the int
 erview at 303-696-1971.\n\n...\nunconstitutionalÂ â€ª#â€Žamnestyâ€¬Â p
 ower grab - refuting some of the justification arguments from the left
  - and some explosive developments in the world ofÂ â€ª#â€ŽCommonCoreâ
 €¬Â Colorado.\nPLUS Sean Hakes will join me in a fascinating discussio
 n focused on alternatives to the Chamber of Commerce, which is being h
 eavily criticized these days on issues like immigration.Â \n\n\n\"The 
 Jimmy Sengenberger Show\" program started on 710 KNUS radio Saturday, 
 September 21, 2013, 5 p.m. to 8 p.m.\n\nÂ \nJimmy Sengenberger had the
  \"Seng Center\" program on the Regis University campus until he gradu
 ated a couple of years ago.Â  He has filled in for a variety of radio 
 hosts all over the metro area and Greeley.\nÂ \nDonâ€™t miss it!Â  Tun
 e in to 710 KNUS or online at http://www.710knus.com/ from 5 to 8 PM. 
 CallÂ  303-696-1071.\nÂ \nThe podcasts for the program can be found on
  the 710 KNUS podcasts page.Â  Look for Jimmy Sengenberger:\n\nhttp://
 www.710knus.com/podcastlineup.aspx\n\n\nÂ \n Â \n\n\nFor more informat
 ion visit http://arapahoeteaparty.ning.com/events/radio-the-jimmy-seng
 enberger-show-with-cory-gardner-et-al
DTSTART:20141116T000000Z
DTEND:20141116T030000Z
CATEGORIES:"radio show"
LOCATION:\"Radio  AM 710 KNUS\"
WEBSITE:http://www.710knus.com/
URL:http://www.710knus.com/
CONTACT:
ORGANIZER:Jimmy Sengenberger [posted by W. Branstetter]
ATTACH;FMTTYPE="image/jpeg":
ATTENDEE;ROLE=REQ-PARTICIPANT;PARTSTAT=ACCEPTED;RSVP=TRUE;CN="W. Brans
 tetter":http://arapahoeteaparty.ning.com/profile/WBranstetter
END:VEVENT
END:VCALENDAR
