BEGIN:VCALENDAR
PRODID:NingEventWidget-v1
VERSION:2.0
METHOD:PUBLISH
BEGIN:VEVENT
UID:3186561:Event:52662
DTSTAMP:20210313T172843Z
SUMMARY:Radio:  \"The Jimmy Sengenberger Show\" with Cory Gardner et a
 l.
DESCRIPTION:Be sure to tune in for the Jimmy Sengenberger radio show.\
 n \"I'll offer a cogent response to his address Thursday night, and ge
 t reaction from former Congressman Thomas Tancredo - who will also d
 iscuss his Stop Chris Christie PAC - and analyze Obama's proposal in
  the grand scheme of immigration reform with The Cato Institute's imm
 igration expert, Alex Nowrasteh.THEN I'll sit down for a full hour wi
 th former state legislator, Ambassador to Bahrain, 1996 primary oppone
 nt to Tancredo for CD-6, and an expert on Middle Eastern affairs to di
 scuss chaos in Israel, the Middle East, and more!\"\n\nhttps://www.fac
 ebook.com/events/797056287030133/\n\n\"The Jimmy Sengenberger Show\" p
 rogram started on 710 KNUS radio Saturday, September 21, 2013, 5 p.m. 
 to 8 p.m.\n\n \nJimmy Sengenberger had the \"Seng Center\" program on
  the Regis University campus until he graduated a couple of years ago.
   He has filled in for a variety of radio hosts all over the metro ar
 ea and Greeley.\n \nDon’t miss it!  Tune in to 710 KNUS or online 
 at http://www.710knus.com/ from 5 to 8 PM. Call  303-696-1071.\n \nT
 he podcasts for the program can be found on the 710 KNUS podcasts page
 .  Look for Jimmy Sengenberger:\n\nhttp://www.710knus.com/podcastline
 up.aspx\n\n\n \n  \n\n\nFor more information visit http://arapahoete
 aparty.ning.com/events/radio-the-jimmy-sengenberger-show-with-cory-gar
 dner-et-al-1
DTSTART:20141123T000000Z
DTEND:20141123T030000Z
CATEGORIES:"radio show"
LOCATION:\"Radio  AM 710 KNUS\"
WEBSITE:http://www.710knus.com/
URL:http://www.710knus.com/
CONTACT:
ORGANIZER:Jimmy Sengenberger [posted by W. Branstetter]
ATTACH;FMTTYPE="image/jpeg":
ATTENDEE;ROLE=REQ-PARTICIPANT;PARTSTAT=ACCEPTED;RSVP=TRUE;CN="W. Brans
 tetter":http://arapahoeteaparty.ning.com/profile/WBranstetter
END:VEVENT
END:VCALENDAR
