BEGIN:VCALENDAR
PRODID:NingEventWidget-v1
VERSION:2.0
METHOD:PUBLISH
BEGIN:VEVENT
UID:3186561:Event:53714
DTSTAMP:20210313T173702Z
SUMMARY:Radio:  \"The Jimmy Sengenberger Show\" An Hour With Each Cand
 idate--Ryan Call and Steve House
DESCRIPTION:Be sure to tune in for the Jimmy Sengenberger radio show.\
 n\nJimmy has reported that Steve House will be in studio for an hour a
 nd that Ryan Call has promised to talk with Jimmy for another hour.  
 Tune in for information on the GOP Chairman candidate's positions and 
 ideas for the future.\n\n\"The Jimmy Sengenberger Show\" program start
 ed on 710 KNUS radio Saturday, September 21, 2013, 5 p.m. to 8 p.m.\n\
 n \nJimmy Sengenberger had the \"Seng Center\" program on the Regis U
 niversity campus until he graduated a couple of years ago.  He has fi
 lled in for a variety of radio hosts all over the metro area and Greel
 ey.\n \nDon’t miss it!  Tune in to 710 KNUS or online at http://ww
 w.710knus.com/ from 5 to 8 PM. Call  303-696-1071.\n \nThe podcasts 
 for the program can be found on the 710 KNUS podcasts page.  Look for
  Jimmy Sengenberger:\n\nhttp://www.710knus.com/podcastlineup.aspx\n\n\
 n \n  \n\n\nFor more information visit http://arapahoeteaparty.ning.
 com/events/radio-the-jimmy-sengenberger-show-an-hour-with-each-candida
 te-rya
DTSTART:20150301T000000Z
DTEND:20150301T030000Z
CATEGORIES:"radio show"
LOCATION:\"Radio  AM 710 KNUS\"
WEBSITE:http://www.710knus.com/
URL:http://www.710knus.com/
CONTACT:
ORGANIZER:Jimmy Sengenberger [posted by W. Branstetter]
ATTACH;FMTTYPE="image/jpeg":
ATTENDEE;ROLE=REQ-PARTICIPANT;PARTSTAT=ACCEPTED;RSVP=TRUE;CN="W. Brans
 tetter":http://arapahoeteaparty.ning.com/profile/WBranstetter
END:VEVENT
END:VCALENDAR
