BEGIN:VCALENDAR
PRODID:NingEventWidget-v1
VERSION:2.0
METHOD:PUBLISH
BEGIN:VEVENT
UID:3186561:Event:59070
DTSTAMP:20210313T175958Z
SUMMARY:Radio:  \"The Jimmy Sengenberger Show\"
DESCRIPTION:Be sure to tune in for the Jimmy Sengenberger radio show.\
 n\nIf you miss a program, find podcasts on 710 KNUS web site for all o
 f the interviews of candidates or specialists on topics.\n\n\"The Jimm
 y Sengenberger Show\" program started on 710 KNUS radio Saturday, Sept
 ember 21, 2013, 5 p.m. to 8 p.m.\n\n \nJimmy Sengenberger had the \"S
 eng Center\" program on the Regis University campus until he graduated
  a couple of years ago.  He has filled in for a variety of radio host
 s all over the metro area and Greeley.\n \nDon’t miss it!  Tune in
  to 710 KNUS or online at http://www.710knus.com/ from 5 to 8 PM. Call
   303-696-1071.\n \nThe podcasts for the program can be found on the
  710 KNUS podcasts page.  Look for Jimmy Sengenberger:\n\nhttp://www.
 710knus.com/podcastlineup.aspx\n\n\n \n  \n\n\nFor more information 
 visit http://arapahoeteaparty.ning.com/events/radio-the-jimmy-sengenbe
 rger-show-845
DTSTART:20161001T230000Z
DTEND:20161002T020000Z
CATEGORIES:"radio show"
LOCATION:\"Radio  AM 710 KNUS\"
WEBSITE:http://www.710knus.com/
URL:http://www.710knus.com/
CONTACT:
ORGANIZER:Jimmy Sengenberger [posted by W. Branstetter]
ATTACH;FMTTYPE="image/jpeg":
ATTENDEE;ROLE=REQ-PARTICIPANT;PARTSTAT=ACCEPTED;RSVP=TRUE;CN="W. Brans
 tetter":http://arapahoeteaparty.ning.com/profile/WBranstetter
END:VEVENT
END:VCALENDAR
