BEGIN:VCALENDAR
PRODID:NingEventWidget-v1
VERSION:2.0
METHOD:PUBLISH
BEGIN:VEVENT
UID:3186561:Event:49671
DTSTAMP:20210313T172939Z
SUMMARY:Radio:  \"The Jimmy Sengenberger Show\"
DESCRIPTION:Reminder for this program:\n\nJimmy always has a good prog
 ram.  One of the interviews from a weekday program includes State Sen
 ator Ted Harvey and Amanda Collins who speaks in support of concealed 
 carry issues, particularly on college campuses, will be played.  That
  podcast is available at:\n\nhttp://www.velocityradio.fm/amanda-collin
 s-on-concealed-carry-obamacare-chaos/\n \n\"The Jimmy Sengenberger Sh
 ow\" is a new program that started on 710 KNUS radio Saturday, Septem
 ber 21, 2013, 5 p.m. to 8 p.m.\n\n \nJimmy Sengenberger had the \"Sen
 g Center\" program on the Regis University campus until he graduated a
  couple of years ago.  He has filled in for a variety of radio hosts 
 all over the metro area and Greeley.\n \nDon’t miss it!  Tune in t
 o 710 KNUS or online at http://www.710knus.com/ from 5 to 8 PM. Call 
  303-696-1071.\n \nTune in and find out what the young man might have
  to say.  It is the weekend so there may be Friday news you have not 
 heard yet.\n \nThe podcasts for the program can be found on the 710 K
 NUS podcasts page.  Look for Jimmy Sengenberger:\n\nhttp://www.710knu
 s.com/podcastlineup.aspx\n\n\n \n  \n\n\nFor more information visit 
 http://arapahoeteaparty.ning.com/events/radio-the-jimmy-sengenberger-s
 how-7
DTSTART:20140405T230000Z
DTEND:20140406T020000Z
CATEGORIES:"radio show"
LOCATION:\"Radio  AM 710 KNUS\"
WEBSITE:http://www.710knus.com/
URL:http://www.710knus.com/
CONTACT:
ORGANIZER:[posted by W. Branstetter]
ATTACH;FMTTYPE="image/jpeg":
ATTENDEE;ROLE=REQ-PARTICIPANT;PARTSTAT=ACCEPTED;RSVP=TRUE;CN="W. Brans
 tetter":http://arapahoeteaparty.ning.com/profile/WBranstetter
END:VEVENT
END:VCALENDAR
