BEGIN:VCALENDAR
PRODID:NingEventWidget-v1
VERSION:2.0
METHOD:PUBLISH
BEGIN:VEVENT
UID:3186561:Event:55668
DTSTAMP:20210313T193346Z
SUMMARY:Radio:  \"The Jimmy Sengenberger Show\"
DESCRIPTION:Be sure to tune in for the Jimmy Sengenberger radio show.\
 n\n[Note that Jimmy's show will overlap the Democrat debate that will 
 air 7:00 to 9:00 p.m. MT on CBS.com]\n\n\"The Jimmy Sengenberger Show\
 " program started on 710 KNUS radio Saturday, September 21, 2013, 5 p.
 m. to 8 p.m.\n\n \nJimmy Sengenberger had the \"Seng Center\" program
  on the Regis University campus until he graduated a couple of years a
 go.  He has filled in for a variety of radio hosts all over the metro
  area and Greeley.\n \nDon’t miss it!  Tune in to 710 KNUS or onli
 ne at http://www.710knus.com/ from 5 to 8 PM. Call  303-696-1071.\n 
 \nThe podcasts for the program can be found on the 710 KNUS podcasts p
 age.  Look for Jimmy Sengenberger:\n\nhttp://www.710knus.com/podcastl
 ineup.aspx\n\n\n \n  \n\n\nFor more information visit http://arapaho
 eteaparty.ning.com/events/radio-the-jimmy-sengenberger-show-589
DTSTART:20151115T000000Z
DTEND:20151115T030000Z
CATEGORIES:"radio show"
LOCATION:\"Radio  AM 710 KNUS\"
WEBSITE:http://www.710knus.com/
URL:http://www.710knus.com/
CONTACT:
ORGANIZER:Jimmy Sengenberger [posted by W. Branstetter]
ATTACH;FMTTYPE="image/jpeg":
ATTENDEE;ROLE=REQ-PARTICIPANT;PARTSTAT=ACCEPTED;RSVP=TRUE;CN="W. Brans
 tetter":http://arapahoeteaparty.ning.com/profile/WBranstetter
END:VEVENT
END:VCALENDAR
