BEGIN:VCALENDAR
PRODID:NingEventWidget-v1
VERSION:2.0
METHOD:PUBLISH
BEGIN:VEVENT
UID:3186561:Event:48927
DTSTAMP:20210313T182512Z
SUMMARY:Radio:  \"The Jimmy Sengenberger Show\"
DESCRIPTION:Reminder for this program:\n\nThere is much to talk about 
 this week with the shake up in the U.S. senatorial race in Colorado an
 d changes to the CD-4 race besides legislative news and more.  Tune i
 n and expect another busy program.\n \n\"The Jimmy Sengenberger Show\
 " is a new program that started on 710 KNUS radio Saturday, September
  21, 2013, 5 p.m. to 8 p.m.\n\n \nJimmy Sengenberger had the \"Seng C
 enter\" program on the Regis University campus until he graduated a co
 uple of years ago.  He has filled in for a variety of radio hosts all
  over the metro area and Greeley.\n \nDon’t miss it!  Tune in to 7
 10 KNUS or online at http://www.710knus.com/ from 5 to 8 PM. Call  30
 3-696-1071.\n \nTune in and find out what the young man might have to
  say.  It is the weekend so there may be Friday news you have not hea
 rd yet.\n \nThe podcasts for the program can be found on the 710 KNUS
  podcasts page.  Look for Jimmy Sengenberger:\n\nhttp://www.710knus.c
 om/podcastlineup.aspx\n\n\n \n  \n\n\nFor more information visit htt
 p://arapahoeteaparty.ning.com/events/radio-the-jimmy-sengenberger-show
 -5
DTSTART:20140302T000000Z
DTEND:20140302T030000Z
CATEGORIES:"radio show"
LOCATION:\"Radio  AM 710 KNUS\"
WEBSITE:http://www.710knus.com/
URL:http://www.710knus.com/
CONTACT:
ORGANIZER:[posted by W. Branstetter]
ATTACH;FMTTYPE="image/jpeg":
ATTENDEE;ROLE=REQ-PARTICIPANT;PARTSTAT=ACCEPTED;RSVP=TRUE;CN="W. Brans
 tetter":http://arapahoeteaparty.ning.com/profile/WBranstetter
END:VEVENT
END:VCALENDAR
