BEGIN:VCALENDAR
PRODID:NingEventWidget-v1
VERSION:2.0
METHOD:PUBLISH
BEGIN:VEVENT
UID:3186561:Event:52302
DTSTAMP:20210313T172130Z
SUMMARY:Radio:  \"The Jimmy Sengenberger Show\"
DESCRIPTION:Be sure to tune in for the Jimmy Sengenberger radio show.\
 n James O'Keefe, Cory Gardner, George Leing, Danny E. Stroud, Marv Tre
 iger, and a chance to win tickets to tomorrow's Revive 1787\n\n\"The 
 Jimmy Sengenberger Show\" program started on 710 KNUS radio Saturday, 
 September 21, 2013, 5 p.m. to 8 p.m.\n\n \nJimmy Sengenberger had the
  \"Seng Center\" program on the Regis University campus until he gradu
 ated a couple of years ago.  He has filled in for a variety of radio 
 hosts all over the metro area and Greeley.\n \nDon’t miss it!  Tun
 e in to 710 KNUS or online at http://www.710knus.com/ from 5 to 8 PM. 
 Call  303-696-1071.\n \nThe podcasts for the program can be found on
  the 710 KNUS podcasts page.  Look for Jimmy Sengenberger:\n\nhttp://
 www.710knus.com/podcastlineup.aspx\n\n\n \n  \n\n\nFor more informat
 ion visit http://arapahoeteaparty.ning.com/events/radio-the-jimmy-seng
 enberger-show-30
DTSTART:20141025T230000Z
DTEND:20141026T020000Z
CATEGORIES:"radio show"
LOCATION:\"Radio  AM 710 KNUS\"
WEBSITE:http://www.710knus.com/
URL:http://www.710knus.com/
CONTACT:
ORGANIZER:Jimmy Sengenberger [posted by W. Branstetter]
ATTACH;FMTTYPE="image/jpeg":
ATTENDEE;ROLE=REQ-PARTICIPANT;PARTSTAT=ACCEPTED;RSVP=TRUE;CN="W. Brans
 tetter":http://arapahoeteaparty.ning.com/profile/WBranstetter
END:VEVENT
END:VCALENDAR
