BEGIN:VCALENDAR
PRODID:NingEventWidget-v1
VERSION:2.0
METHOD:PUBLISH
BEGIN:VEVENT
UID:3186561:Event:48538
DTSTAMP:20210313T182543Z
SUMMARY:Radio:  \"The Jimmy Sengenberger Show\"
DESCRIPTION:Reminder for this program:\n\nIt is a new year and there i
 s much to talk about this week.\n \n\"The Jimmy Sengenberger Show\" i
 s a new program that started on 710 KNUS radio Saturday, September 21
 , 2013, 5 p.m. to 8 p.m.\n\n \nJimmy Sengenberger had the \"Seng Cent
 er\" program on the Regis University campus until he graduated a coupl
 e of years ago.  He has filled in for a variety of radio hosts all ov
 er the metro area and Greeley.\n \nDon’t miss it!  Tune in to 710 
 KNUS or online at http://www.710knus.com/ from 5 to 8 PM. Call  303-6
 96-1071.\n \nTune in and find out what the young man might have to sa
 y.  It is the weekend so there may be Friday news you have not heard 
 yet.\n \nThe podcasts for the program can be found on the 710 KNUS po
 dcasts page.  Look for Jimmy Sengenberger:\n\nhttp://www.710knus.com/
 podcastlineup.aspx\n\nNote:  An interview of Col. Allen West taped ea
 rlier in the week was played during the first hour of the program.  C
 heck the podcast if you missed the show.\n\n \n  \n\n\nFor more info
 rmation visit http://arapahoeteaparty.ning.com/events/radio-the-jimmy-
 sengenberger-show-3
DTSTART:20140126T000000Z
DTEND:20140126T030000Z
CATEGORIES:"radio show"
LOCATION:\"Radio  AM 710 KNUS\"
WEBSITE:http://www.710knus.com/
URL:http://www.710knus.com/
CONTACT:
ORGANIZER:[posted by W. Branstetter]
ATTACH;FMTTYPE="image/jpeg":
ATTENDEE;ROLE=REQ-PARTICIPANT;PARTSTAT=ACCEPTED;RSVP=TRUE;CN="W. Brans
 tetter":http://arapahoeteaparty.ning.com/profile/WBranstetter
END:VEVENT
END:VCALENDAR
