BEGIN:VCALENDAR
PRODID:NingEventWidget-v1
VERSION:2.0
METHOD:PUBLISH
BEGIN:VEVENT
UID:3186561:Event:57674
DTSTAMP:20210313T174936Z
SUMMARY:Radio:  \"The Jimmy Sengenberger Show\"
DESCRIPTION:Be sure to tune in for the Jimmy Sengenberger radio show.\
 n\nUndoubtedly Jimmy will be discussing the week's events and topics o
 f discussion--caucus, convention, delegates, and rallying activists.\n
 \n\"The Jimmy Sengenberger Show\" program started on 710 KNUS radio Sa
 turday, September 21, 2013, 5 p.m. to 8 p.m.\n\n \nJimmy Sengenberger
  had the \"Seng Center\" program on the Regis University campus until 
 he graduated a couple of years ago.  He has filled in for a variety o
 f radio hosts all over the metro area and Greeley.\n \nDon’t miss i
 t!  Tune in to 710 KNUS or online at http://www.710knus.com/ from 5 t
 o 8 PM. Call  303-696-1071.\n \nThe podcasts for the program can be 
 found on the 710 KNUS podcasts page.  Look for Jimmy Sengenberger:\n\
 nhttp://www.710knus.com/podcastlineup.aspx\n\n\n \n  \n\n\nFor more 
 information visit http://arapahoeteaparty.ning.com/events/radio-the-ji
 mmy-sengenberger-show-296
DTSTART:20160430T230000Z
DTEND:20160501T020000Z
CATEGORIES:"radio show"
LOCATION:\"Radio  AM 710 KNUS\"
WEBSITE:http://www.710knus.com/
URL:http://www.710knus.com/
CONTACT:
ORGANIZER:Jimmy Sengenberger [posted by W. Branstetter]
ATTACH;FMTTYPE="image/jpeg":
ATTENDEE;ROLE=REQ-PARTICIPANT;PARTSTAT=ACCEPTED;RSVP=TRUE;CN="W. Brans
 tetter":http://arapahoeteaparty.ning.com/profile/WBranstetter
END:VEVENT
END:VCALENDAR
