BEGIN:VCALENDAR
PRODID:NingEventWidget-v1
VERSION:2.0
METHOD:PUBLISH
BEGIN:VEVENT
UID:3186561:Event:52193
DTSTAMP:20210313T174647Z
SUMMARY:Radio:  \"The Jimmy Sengenberger Show\"
DESCRIPTION:Be sure to tune in for the Jimmy Sengenberger radio show.T
 opics or guests are listed at:\n\nhttps://www.facebook.com/events/2810
 21998760536\n\n\n\"The Jimmy Sengenberger Show\" program started on 71
 0 KNUS radio Saturday, September 21, 2013, 5 p.m. to 8 p.m.\n\n \nJim
 my Sengenberger had the \"Seng Center\" program on the Regis Universit
 y campus until he graduated a couple of years ago.  He has filled in 
 for a variety of radio hosts all over the metro area and Greeley.\n \
 nDon’t miss it!  Tune in to 710 KNUS or online at http://www.710knu
 s.com/ from 5 to 8 PM. Call  303-696-1071.\n \nThe podcasts for the 
 program can be found on the 710 KNUS podcasts page.  Look for Jimmy S
 engenberger:\n\nhttp://www.710knus.com/podcastlineup.aspx\n\n\n \n  
 \n\n\nFor more information visit http://arapahoeteaparty.ning.com/even
 ts/radio-the-jimmy-sengenberger-show-29
DTSTART:20141018T230000Z
DTEND:20141019T020000Z
CATEGORIES:"radio show"
LOCATION:\"Radio  AM 710 KNUS\"
WEBSITE:http://www.710knus.com/
URL:http://www.710knus.com/
CONTACT:
ORGANIZER:Jimmy Sengenberger [posted by W. Branstetter]
ATTACH;FMTTYPE="image/jpeg":
ATTENDEE;ROLE=REQ-PARTICIPANT;PARTSTAT=ACCEPTED;RSVP=TRUE;CN="W. Brans
 tetter":http://arapahoeteaparty.ning.com/profile/WBranstetter
END:VEVENT
END:VCALENDAR
