BEGIN:VCALENDAR
PRODID:NingEventWidget-v1
VERSION:2.0
METHOD:PUBLISH
BEGIN:VEVENT
UID:3186561:Event:51629
DTSTAMP:20210313T174201Z
SUMMARY:Radio:  \"The Jimmy Sengenberger Show\"
DESCRIPTION:Be sure to tune in for the Jimmy Sengenberger radio show.\
 n\n\"...an EXCLUSIVE, in-depth conversation with the fascinating Marv 
 Treiger, a practicing Buddhist, Leftist-turned-Conservative - and you 
 do NOT want to miss this! Plus conversations with Jonathan Lockwood an
 d Keith Nobles.\"\n\n\"The Jimmy Sengenberger Show\" program started o
 n 710 KNUS radio Saturday, September 21, 2013, 5 p.m. to 8 p.m.\n\n \
 nJimmy Sengenberger had the \"Seng Center\" program on the Regis Unive
 rsity campus until he graduated a couple of years ago.  He has filled
  in for a variety of radio hosts all over the metro area and Greeley.\
 n \nDon’t miss it!  Tune in to 710 KNUS or online at http://www.71
 0knus.com/ from 5 to 8 PM. Call  303-696-1071.\n \nThe podcasts for 
 the program can be found on the 710 KNUS podcasts page.  Look for Jim
 my Sengenberger:\n\nhttp://www.710knus.com/podcastlineup.aspx\n\n\n \
 n  \n\n\nFor more information visit http://arapahoeteaparty.ning.com/
 events/radio-the-jimmy-sengenberger-show-26
DTSTART:20140920T230000Z
DTEND:20140921T020000Z
CATEGORIES:"radio show"
LOCATION:\"Radio  AM 710 KNUS\"
WEBSITE:http://www.710knus.com/
URL:http://www.710knus.com/
CONTACT:
ORGANIZER:Jimmy Sengenberger [posted by W. Branstetter]
ATTACH;FMTTYPE="image/jpeg":
ATTENDEE;ROLE=REQ-PARTICIPANT;PARTSTAT=ACCEPTED;RSVP=TRUE;CN="W. Brans
 tetter":http://arapahoeteaparty.ning.com/profile/WBranstetter
END:VEVENT
END:VCALENDAR
