BEGIN:VCALENDAR
PRODID:NingEventWidget-v1
VERSION:2.0
METHOD:PUBLISH
BEGIN:VEVENT
UID:3186561:Event:51598
DTSTAMP:20210313T173805Z
SUMMARY:Radio:  \"The Jimmy Sengenberger Show\"
DESCRIPTION:Jimmy writes about the program:\n\n\"Don't miss the brilli
 ant and entertaining Patrick J. Michaels of The Cato Institute once ag
 ain call in to take down the GWIC (Global Warming Institutional Comple
 x)...\n\nThen, entertainer, comedian, and voice actor Jimmie Viles joi
 ns us to remember the late Joan Rivers and Robin Williams, plus share 
 some hilarious encounters with Rodney Dangerfield, Jack Nicholson, and
  Kelsey Grammer!\n\nPLUS, David K. Williams Jr. and I will hash out hi
 s Libertarian Party bid for Attorney General. Listeners and friends kn
 ow that I am a fervent Cynthia Coffman (Republican) supporter, so this
  should be fun!\"\n\n\"The Jimmy Sengenberger Show\" program started o
 n 710 KNUS radio Saturday, September 21, 2013, 5 p.m. to 8 p.m.\n\n \
 nJimmy Sengenberger had the \"Seng Center\" program on the Regis Unive
 rsity campus until he graduated a couple of years ago.  He has filled
  in for a variety of radio hosts all over the metro area and Greeley.\
 n \nDon’t miss it!  Tune in to 710 KNUS or online at http://www.71
 0knus.com/ from 5 to 8 PM. Call  303-696-1071.\n \nThe podcasts for 
 the program can be found on the 710 KNUS podcasts page.  Look for Jim
 my Sengenberger:\n\nhttp://www.710knus.com/podcastlineup.aspx\n\n\n \
 n  \n\n\nFor more information visit http://arapahoeteaparty.ning.com/
 events/radio-the-jimmy-sengenberger-show-25
DTSTART:20140906T230000Z
DTEND:20140907T020000Z
CATEGORIES:"radio show"
LOCATION:\"Radio  AM 710 KNUS\"
WEBSITE:http://www.710knus.com/
URL:http://www.710knus.com/
CONTACT:
ORGANIZER:Jimmy Sengenberger [posted by W. Branstetter]
ATTACH;FMTTYPE="image/jpeg":
ATTENDEE;ROLE=REQ-PARTICIPANT;PARTSTAT=ACCEPTED;RSVP=TRUE;CN="W. Brans
 tetter":http://arapahoeteaparty.ning.com/profile/WBranstetter
END:VEVENT
END:VCALENDAR
