BEGIN:VCALENDAR
PRODID:NingEventWidget-v1
VERSION:2.0
METHOD:PUBLISH
BEGIN:VEVENT
UID:3186561:Event:51693
DTSTAMP:20210313T174619Z
SUMMARY:Radio:  \"The Jimmy Sengenberger Show\"
DESCRIPTION:Reminder for this program:\n\n\"...*expecting* to talk wit
 h Guy Benson of Townhall.com, along with communications expert Roshi
 ni Rajkumar on Obama and potential GOP presidential candidates and two
  incredible women who left the tyranny of China for the freedom of the
  United States: Helen Raleigh, author of the book \"@Confucius Confu
 cius Never Said,\" and Lily Williams, a libertarian state legislative
  candidate.\nPLUS we'll break down Obama's utter weakness on ISIS - I 
 mean, seriously, \"we don't have a strategy?\" - and update you on two
  key potential \"executive actions\" by the president on immigration a
 nd climate change.\"\n\n\"The Jimmy Sengenberger Show\" is a new progr
 am that started on 710 KNUS radio Saturday, September 21, 2013, 5 p.m
 . to 8 p.m.\n\n \nJimmy Sengenberger had the \"Seng Center\" program 
 on the Regis University campus until he graduated a couple of years ag
 o.  He has filled in for a variety of radio hosts all over the metro 
 area and Greeley.\n \nDon’t miss it!  Tune in to 710 KNUS or onlin
 e at http://www.710knus.com/ from 5 to 8 PM. Call  303-696-1071.\n \
 nThe podcasts for the program can be found on the 710 KNUS podcasts pa
 ge.  Look for Jimmy Sengenberger:\n\nhttp://www.710knus.com/podcastli
 neup.aspx\n\n\n \n  \n\n\nFor more information visit http://arapahoe
 teaparty.ning.com/events/radio-the-jimmy-sengenberger-show-24
DTSTART:20140830T230000Z
DTEND:20140831T020000Z
CATEGORIES:"radio show"
LOCATION:\"Radio  AM 710 KNUS\"
WEBSITE:http://www.710knus.com/
URL:http://www.710knus.com/
CONTACT:
ORGANIZER:Jimmy Sengenberger [posted by W. Branstetter]
ATTACH;FMTTYPE="image/jpeg":
ATTENDEE;ROLE=REQ-PARTICIPANT;PARTSTAT=ACCEPTED;RSVP=TRUE;CN="W. Brans
 tetter":http://arapahoeteaparty.ning.com/profile/WBranstetter
END:VEVENT
END:VCALENDAR
