BEGIN:VCALENDAR
PRODID:NingEventWidget-v1
VERSION:2.0
METHOD:PUBLISH
BEGIN:VEVENT
UID:3186561:Event:51577
DTSTAMP:20210313T175336Z
SUMMARY:Radio:  \"The Jimmy Sengenberger Show\"
DESCRIPTION:Reminder for this program:\n\nTune in and expect another b
 usy program.\n\n\n \n\"The Jimmy Sengenberger Show\" is a new program
  that started on 710 KNUS radio Saturday, September 21, 2013, 5 p.m. 
 to 8 p.m.\n\n \nJimmy Sengenberger had the \"Seng Center\" program on
  the Regis University campus until he graduated a couple of years ago.
   He has filled in for a variety of radio hosts all over the metro ar
 ea and Greeley.\n \nDon’t miss it!  Tune in to 710 KNUS or online 
 at http://www.710knus.com/ from 5 to 8 PM. Call  303-696-1071.\n \nT
 une in and find out what the young man might have to say.  It is the 
 weekend so there may be Friday news you have not heard yet.\n \nThe p
 odcasts for the program can be found on the 710 KNUS podcasts page.  
 Look for Jimmy Sengenberger:\n\nhttp://www.710knus.com/podcastlineup.a
 spx\n\n\n \n  \n\n\nFor more information visit http://arapahoeteapar
 ty.ning.com/events/radio-the-jimmy-sengenberger-show-23
DTSTART:20140823T230000Z
DTEND:20140824T020000Z
CATEGORIES:"radio show"
LOCATION:\"Radio  AM 710 KNUS\"
WEBSITE:http://www.710knus.com/
URL:http://www.710knus.com/
CONTACT:
ORGANIZER:[posted by W. Branstetter]
ATTACH;FMTTYPE="image/jpeg":
ATTENDEE;ROLE=REQ-PARTICIPANT;PARTSTAT=ACCEPTED;RSVP=TRUE;CN="W. Brans
 tetter":http://arapahoeteaparty.ning.com/profile/WBranstetter
END:VEVENT
END:VCALENDAR
