BEGIN:VCALENDAR
PRODID:NingEventWidget-v1
VERSION:2.0
METHOD:PUBLISH
BEGIN:VEVENT
UID:3186561:Event:53972
DTSTAMP:20210313T193312Z
SUMMARY:Radio:  \"The Jimmy Sengenberger Show\"
DESCRIPTION:Be sure to tune in for the Jimmy Sengenberger radio show.\
 n\nUndoubtedly, Jimmy should have news and interviews with the movers 
 and shakers from the statewide Republican leadership elections today i
 n Douglas County.  \n\n\"The Jimmy Sengenberger Show\" program starte
 d on 710 KNUS radio Saturday, September 21, 2013, 5 p.m. to 8 p.m.\n\n
  \nJimmy Sengenberger had the \"Seng Center\" program on the Regis Un
 iversity campus until he graduated a couple of years ago.  He has fil
 led in for a variety of radio hosts all over the metro area and Greele
 y.\n \nDon’t miss it!  Tune in to 710 KNUS or online at http://www
 .710knus.com/ from 5 to 8 PM. Call  303-696-1071.\n \nThe podcasts f
 or the program can be found on the 710 KNUS podcasts page.  Look for 
 Jimmy Sengenberger:\n\nhttp://www.710knus.com/podcastlineup.aspx\n\n\n
  \n  \n\n\nFor more information visit http://arapahoeteaparty.ning.c
 om/events/radio-the-jimmy-sengenberger-show-173
DTSTART:20150321T230000Z
DTEND:20150322T020000Z
CATEGORIES:"radio show"
LOCATION:\"Radio  AM 710 KNUS\"
WEBSITE:http://www.710knus.com/
URL:http://www.710knus.com/
CONTACT:
ORGANIZER:Jimmy Sengenberger [posted by W. Branstetter]
ATTACH;FMTTYPE="image/jpeg":
ATTENDEE;ROLE=REQ-PARTICIPANT;PARTSTAT=ACCEPTED;RSVP=TRUE;CN="W. Brans
 tetter":http://arapahoeteaparty.ning.com/profile/WBranstetter
END:VEVENT
END:VCALENDAR
